BEGIN:VCALENDAR
VERSION:2.0
PRODID:-//Whanganui Mountain Bike Club - ECPv6.15.20//NONSGML v1.0//EN
CALSCALE:GREGORIAN
METHOD:PUBLISH
X-ORIGINAL-URL:https://whanganuimountainbikeclub.co.nz
X-WR-CALDESC:Events for Whanganui Mountain Bike Club
REFRESH-INTERVAL;VALUE=DURATION:PT1H
X-Robots-Tag:noindex
X-PUBLISHED-TTL:PT1H
BEGIN:VTIMEZONE
TZID:Pacific/Auckland
BEGIN:STANDARD
TZOFFSETFROM:+1300
TZOFFSETTO:+1200
TZNAME:NZST
DTSTART:20250405T140000
END:STANDARD
BEGIN:DAYLIGHT
TZOFFSETFROM:+1200
TZOFFSETTO:+1300
TZNAME:NZDT
DTSTART:20250927T140000
END:DAYLIGHT
BEGIN:STANDARD
TZOFFSETFROM:+1300
TZOFFSETTO:+1200
TZNAME:NZST
DTSTART:20260404T140000
END:STANDARD
BEGIN:DAYLIGHT
TZOFFSETFROM:+1200
TZOFFSETTO:+1300
TZNAME:NZDT
DTSTART:20260926T140000
END:DAYLIGHT
BEGIN:STANDARD
TZOFFSETFROM:+1300
TZOFFSETTO:+1200
TZNAME:NZST
DTSTART:20270403T140000
END:STANDARD
BEGIN:DAYLIGHT
TZOFFSETFROM:+1200
TZOFFSETTO:+1300
TZNAME:NZDT
DTSTART:20270925T140000
END:DAYLIGHT
END:VTIMEZONE
BEGIN:VEVENT
DTSTART;TZID=Pacific/Auckland:20260423T180000
DTEND;TZID=Pacific/Auckland:20260423T193000
DTSTAMP:20260420T151241
CREATED:20260326T234929Z
LAST-MODIFIED:20260326T234930Z
UID:1771-1776967200-1776972600@whanganuimountainbikeclub.co.nz
SUMMARY:April Thursday Club Rides – Hyltons Pit – 6pm – bring lights
DESCRIPTION:The tracks in Hyltons Pit are still running sweet and will hopefully dry out again so the club will continue to meet on Thursday evenings at the Brunswick entrance at 6pm for a 10-15km circuit of all the tracks\, ending up with a whizz down the fun flow trail Bikeshed Shredder. A good opportunity to meet other club members and enjoy a bit of conviviality with an optional drink afterwards at the local Boatshed. \nDaylight Saving ends on Sunday 5 April so will mean that lights will be needed from Thursday 9 April. A light on one’s helmet provides better support for single track riding rather than on the handlebars. Make sure that you have enough battery charge for an hour and a quarter of riding at a brightness with which you are comfortable. \nNight riding gives a whole new dimension to mountain biking and is lots of fun. Give it a go and you might become a convert! \nRozy
URL:https://whanganuimountainbikeclub.co.nz/event/april-thursday-club-rides-hyltons-pit-6pm-bring-lights-4/
LOCATION:Hyltons Pit\, 56 Brunswick Rd\,\, Whanganui\, 4571\, New Zealand
CATEGORIES:Thursday club ride
ATTACH;FMTTYPE=image/png:https://whanganuimountainbikeclub.co.nz/wp-content/uploads/2026/03/ACg8ocIHzokgbYTJIyiHmFuLAfgs0QvVYgwHePnX8etrJo-HyriTDDQs80-p.png
ORGANIZER;CN="Whanganui MTB club":MAILTO:whanganuimtbc@gmail.com
END:VEVENT
BEGIN:VEVENT
DTSTART;TZID=Pacific/Auckland:20260426T130000
DTEND;TZID=Pacific/Auckland:20260426T170000
DTSTAMP:20260420T151241
CREATED:20260326T233556Z
LAST-MODIFIED:20260326T233846Z
UID:1759-1777208400-1777222800@whanganuimountainbikeclub.co.nz
SUMMARY:NZ Single Speed Champs - That Place MTB Park - Sunday 26 April 2026
DESCRIPTION:New Zealand Single Speed Champs \nSunday 26 Apr 2026\, 1:00 pm \nThat Place MTB Park \n1021 Kaiwhaiki Road\, Whanganui \nTime to get your costume sorted and dust off your single speed \nEntry includes a t-shirt\, race plate\, winners tattoo and evening meal with drink. \n    Big Moose live fire cooking\n    Roots Brewing  \nCamping onsite for $20pp per night. Hot showers\, lush grass and composting toilets. \nFor the fancy ones\, check out the domes at www.takahuriglamping.co.nz \nBring your significant other and purchase an extra meal ticket (or get them to enter too!) \nBring your trail/e/enduro bike so you can lap the sweet grade 3-5 trails for no additional cost while you stay onsite for the weekend. \nNew Zealand Single Speed Champs
URL:https://whanganuimountainbikeclub.co.nz/event/nz-single-speed-champs-that-place-mtb-park-sunday-26-april-2026/
LOCATION:That Place\, 1021 Kaiwhaiki Rd\, Whanganui\, New Zealand
CATEGORIES:Singlespeed champs
ATTACH;FMTTYPE=image/png:https://whanganuimountainbikeclub.co.nz/wp-content/uploads/2026/03/ACg8ocIHzokgbYTJIyiHmFuLAfgs0QvVYgwHePnX8etrJo-HyriTDDQs80-p.png
ORGANIZER;CN="Whanganui MTB club":MAILTO:whanganuimtbc@gmail.com
END:VEVENT
BEGIN:VEVENT
DTSTART;TZID=Pacific/Auckland:20260430T180000
DTEND;TZID=Pacific/Auckland:20260430T193000
DTSTAMP:20260420T151241
CREATED:20260326T235032Z
LAST-MODIFIED:20260326T235033Z
UID:1773-1777572000-1777577400@whanganuimountainbikeclub.co.nz
SUMMARY:April Thursday Club Rides – Hyltons Pit – 6pm – bring lights
DESCRIPTION:The tracks in Hyltons Pit are still running sweet and will hopefully dry out again so the club will continue to meet on Thursday evenings at the Brunswick entrance at 6pm for a 10-15km circuit of all the tracks\, ending up with a whizz down the fun flow trail Bikeshed Shredder. A good opportunity to meet other club members and enjoy a bit of conviviality with an optional drink afterwards at the local Boatshed. \nDaylight Saving ends on Sunday 5 April so will mean that lights will be needed from Thursday 9 April. A light on one’s helmet provides better support for single track riding rather than on the handlebars. Make sure that you have enough battery charge for an hour and a quarter of riding at a brightness with which you are comfortable. \nNight riding gives a whole new dimension to mountain biking and is lots of fun. Give it a go and you might become a convert! \nRozy
URL:https://whanganuimountainbikeclub.co.nz/event/april-thursday-club-rides-hyltons-pit-6pm-bring-lights-5/
LOCATION:Hyltons Pit\, 56 Brunswick Rd\,\, Whanganui\, 4571\, New Zealand
CATEGORIES:Thursday club ride
ATTACH;FMTTYPE=image/png:https://whanganuimountainbikeclub.co.nz/wp-content/uploads/2026/03/ACg8ocIHzokgbYTJIyiHmFuLAfgs0QvVYgwHePnX8etrJo-HyriTDDQs80-p.png
ORGANIZER;CN="Whanganui MTB club":MAILTO:whanganuimtbc@gmail.com
END:VEVENT
END:VCALENDAR