BEGIN:VCALENDAR
VERSION:2.0
PRODID:-//Whanganui Mountain Bike Club - ECPv6.15.20//NONSGML v1.0//EN
CALSCALE:GREGORIAN
METHOD:PUBLISH
X-WR-CALNAME:Whanganui Mountain Bike Club
X-ORIGINAL-URL:https://whanganuimountainbikeclub.co.nz
X-WR-CALDESC:Events for Whanganui Mountain Bike Club
REFRESH-INTERVAL;VALUE=DURATION:PT1H
X-Robots-Tag:noindex
X-PUBLISHED-TTL:PT1H
BEGIN:VTIMEZONE
TZID:Pacific/Auckland
BEGIN:STANDARD
TZOFFSETFROM:+1300
TZOFFSETTO:+1200
TZNAME:NZST
DTSTART:20240406T140000
END:STANDARD
BEGIN:DAYLIGHT
TZOFFSETFROM:+1200
TZOFFSETTO:+1300
TZNAME:NZDT
DTSTART:20240928T140000
END:DAYLIGHT
BEGIN:STANDARD
TZOFFSETFROM:+1300
TZOFFSETTO:+1200
TZNAME:NZST
DTSTART:20250405T140000
END:STANDARD
BEGIN:DAYLIGHT
TZOFFSETFROM:+1200
TZOFFSETTO:+1300
TZNAME:NZDT
DTSTART:20250927T140000
END:DAYLIGHT
BEGIN:STANDARD
TZOFFSETFROM:+1300
TZOFFSETTO:+1200
TZNAME:NZST
DTSTART:20260404T140000
END:STANDARD
BEGIN:DAYLIGHT
TZOFFSETFROM:+1200
TZOFFSETTO:+1300
TZNAME:NZDT
DTSTART:20260926T140000
END:DAYLIGHT
END:VTIMEZONE
BEGIN:VEVENT
DTSTART;TZID=Pacific/Auckland:20251102T093000
DTEND;TZID=Pacific/Auckland:20251102T120000
DTSTAMP:20260423T000926
CREATED:20251031T044437Z
LAST-MODIFIED:20251031T044438Z
UID:1696-1762075800-1762084800@whanganuimountainbikeclub.co.nz
SUMMARY:Sunday club ride - Lismore Forest roads - 9.30am
DESCRIPTION:This Sunday 2 November is open for members to ride at any time on the gravel roads within Lismore forest. \nMembers are welcome to join an ebike morning circuitous ride.  We will be mainly sticking to the main gravel roads\, starting and ending on SH4. Fit riders on analogues are also welcome.  A separate group could be made if there are enough riders. \nMeet – Corner SH4 and Old Parapara Rd (past the white bridge) on Sunday 2 November at 9.30am. Big hills\, moderately steep in sections. \nMost of the extensive forest road system in Lismore is great for exploring.  Forest360 is keen that we utilize the forest roads and tracks more fully for recreational purposes. An ideal area for fit riders\, gravel and ebikes. \nWe encourage members to fill in the online induction form for Forest 360. This will only need to be done once per person and not every time you enter the forest. \nhttps://forest360.tickbox.nz/register \nPlease note: The mt bike DH area is open every weekend and evenings during the week for riding.  Tracks are extremely slippery after rain.
URL:https://whanganuimountainbikeclub.co.nz/event/sunday-club-ride-lismore-forest-roads-9-30am/
LOCATION:Old Parapara Rd\, Whanganui\, -39.83179785210985\, 175.1671180173915
CATEGORIES:Sunday rides
ATTACH;FMTTYPE=image/png:https://whanganuimountainbikeclub.co.nz/wp-content/uploads/2020/07/logo2.png
ORGANIZER;CN="Whanganui MTB club":MAILTO:whanganuimtbc@gmail.com
END:VEVENT
BEGIN:VEVENT
DTSTART;TZID=Pacific/Auckland:20251106T180000
DTEND;TZID=Pacific/Auckland:20251106T193000
DTSTAMP:20260423T000926
CREATED:20251104T082505Z
LAST-MODIFIED:20251104T082505Z
UID:1704-1762452000-1762457400@whanganuimountainbikeclub.co.nz
SUMMARY:Thursday evening Club ride - Hylton's Pit
DESCRIPTION:The club holds weekly rides at 6pm on Thursday evenings. A monthly email is sent out advising venues for the month. Summer riding takes place at Hyltons Pit\, meeting at the main entrance on Brunswick Rd. The rides are usually between 1.5 – 2hrs\, followed by a convivial drink.
URL:https://whanganuimountainbikeclub.co.nz/event/thursday-evening-club-ride-hyltons-pit-2/
LOCATION:Hyltons Pit\, 56 Brunswick Rd\,\, Whanganui\, 4571\, New Zealand
CATEGORIES:Thursday club ride
ATTACH;FMTTYPE=image/png:https://whanganuimountainbikeclub.co.nz/wp-content/uploads/2020/07/logo2.png
ORGANIZER;CN="Whanganui MTB club":MAILTO:whanganuimtbc@gmail.com
END:VEVENT
BEGIN:VEVENT
DTSTART;TZID=Pacific/Auckland:20251113T060000
DTEND;TZID=Pacific/Auckland:20251113T193000
DTSTAMP:20260423T000926
CREATED:20251104T082305Z
LAST-MODIFIED:20251104T082527Z
UID:1702-1763013600-1763062200@whanganuimountainbikeclub.co.nz
SUMMARY:Thursday evening Club ride - Hylton's Pit
DESCRIPTION:The club holds weekly rides at 6pm on Thursday evenings. A monthly email is sent out advising venues for the month. Summer riding takes place at Hyltons Pit\, meeting at the main entrance on Brunswick Rd. The rides are usually between 1.5 – 2hrs\, followed by a convivial drink.
URL:https://whanganuimountainbikeclub.co.nz/event/thursday-evening-club-ride-hyltons-pit/
LOCATION:Hyltons Pit\, 56 Brunswick Rd\,\, Whanganui\, 4571\, New Zealand
CATEGORIES:Thursday club ride
ATTACH;FMTTYPE=image/png:https://whanganuimountainbikeclub.co.nz/wp-content/uploads/2020/07/logo2.png
ORGANIZER;CN="Whanganui MTB club":MAILTO:whanganuimtbc@gmail.com
END:VEVENT
BEGIN:VEVENT
DTSTART;TZID=Pacific/Auckland:20251116T110000
DTEND;TZID=Pacific/Auckland:20251116T170000
DTSTAMP:20260423T000926
CREATED:20251113T194102Z
LAST-MODIFIED:20251113T194227Z
UID:1716-1763290800-1763312400@whanganuimountainbikeclub.co.nz
SUMMARY:Sunday Ride - Anticlockwise - 90km Papaiti/Kauarapaoa Rd/Bushy Park/Brunswick Circuit - 11am - Leaving from Carolines
DESCRIPTION:Hi all \nJoin us on this classic local scenic circuit on backcountry roads – moderate hills – about 90km.  Start and finish at Caroline’s Boatshed and ride the loop anti-clockwise\, starting along the Whanganui River\, Kauarapaoa Rd then Rangitatau East Rd past Bushy Park\, ending up along Brunswick Rd. \nMeet at Caroline’s Boatshed\, Somme Pde at 11am on Sunday 16 November  \nBring some snacks for a halfway stop.  Usually about 4-5 hrs in total.  E-bikes if you have the battery capacity! \nRozy \nPS  The inaugural 75km Whanganui Pave and Gravel ride is organized for Sunday 7 December and follows part of this circuit from the Top 10 Holiday Park\, ending at Brunswick Hall.  Details to follow.
URL:https://whanganuimountainbikeclub.co.nz/event/sunday-ride-anticlockwise-papaiti-kauarapaoa-rd-bushy-park-brunswick-circuit-11am-leaving-from-carolines/
LOCATION:Caroline’s Boatshed Bar and Eatery\, 181 Somme Parade\, Aramoho\,\, Whanganui\, 4500\, New Zealand
CATEGORIES:Sunday rides
ATTACH;FMTTYPE=image/png:https://whanganuimountainbikeclub.co.nz/wp-content/uploads/2020/07/logo2.png
ORGANIZER;CN="Whanganui MTB club":MAILTO:whanganuimtbc@gmail.com
END:VEVENT
BEGIN:VEVENT
DTSTART;TZID=Pacific/Auckland:20251120T180000
DTEND;TZID=Pacific/Auckland:20251120T193000
DTSTAMP:20260423T000926
CREATED:20251104T082637Z
LAST-MODIFIED:20251104T082637Z
UID:1706-1763661600-1763667000@whanganuimountainbikeclub.co.nz
SUMMARY:Thursday evening Club ride – Hylton’s Pit
DESCRIPTION:The club holds weekly rides at 6pm on Thursday evenings. A monthly email is sent out advising venues for the month. Summer riding takes place at Hyltons Pit\, meeting at the main entrance on Brunswick Rd. The rides are usually between 1.5 – 2hrs\, followed by a convivial drink.
URL:https://whanganuimountainbikeclub.co.nz/event/thursday-evening-club-ride-hyltons-pit-3/
LOCATION:Hyltons Pit\, 56 Brunswick Rd\,\, Whanganui\, 4571\, New Zealand
CATEGORIES:Thursday club ride
ATTACH;FMTTYPE=image/png:https://whanganuimountainbikeclub.co.nz/wp-content/uploads/2020/07/logo2.png
ORGANIZER;CN="Whanganui MTB club":MAILTO:whanganuimtbc@gmail.com
END:VEVENT
BEGIN:VEVENT
DTSTART;TZID=Pacific/Auckland:20251123T093000
DTEND;TZID=Pacific/Auckland:20251123T133000
DTSTAMP:20260423T000926
CREATED:20251120T040138Z
LAST-MODIFIED:20251120T040625Z
UID:1721-1763890200-1763904600@whanganuimountainbikeclub.co.nz
SUMMARY:Tauakira trig ride Sunday 23 November at 9:30am
DESCRIPTION:
URL:https://whanganuimountainbikeclub.co.nz/event/tauakira-trig-ride-sunday-23-november-at-930am/
LOCATION:Parihauhau rd turn off\, 1 Parihauhau Road\, New Zealand
CATEGORIES:Sunday rides
ATTACH;FMTTYPE=image/jpeg:https://whanganuimountainbikeclub.co.nz/wp-content/uploads/2025/11/Tauakira-trig.jpg
ORGANIZER;CN="Whanganui MTB club":MAILTO:whanganuimtbc@gmail.com
END:VEVENT
BEGIN:VEVENT
DTSTART;TZID=Pacific/Auckland:20251127T180000
DTEND;TZID=Pacific/Auckland:20251127T193000
DTSTAMP:20260423T000926
CREATED:20251104T082734Z
LAST-MODIFIED:20251104T082826Z
UID:1708-1764266400-1764271800@whanganuimountainbikeclub.co.nz
SUMMARY:Thursday evening Club ride – Hylton’s Pit
DESCRIPTION:The club holds weekly rides at 6pm on Thursday evenings. A monthly email is sent out advising venues for the month. Summer riding takes place at Hyltons Pit\, meeting at the main entrance on Brunswick Rd. The rides are usually between 1.5 – 2hrs\, followed by a convivial drink.
URL:https://whanganuimountainbikeclub.co.nz/event/thursday-evening-club-ride-hyltons-pit-4/
LOCATION:Hyltons Pit\, 56 Brunswick Rd\,\, Whanganui\, 4571\, New Zealand
CATEGORIES:Thursday club ride
ATTACH;FMTTYPE=image/png:https://whanganuimountainbikeclub.co.nz/wp-content/uploads/2020/07/logo2.png
ORGANIZER;CN="Whanganui MTB club":MAILTO:whanganuimtbc@gmail.com
END:VEVENT
END:VCALENDAR