BEGIN:VCALENDAR
VERSION:2.0
PRODID:-//Whanganui Mountain Bike Club - ECPv6.15.20//NONSGML v1.0//EN
CALSCALE:GREGORIAN
METHOD:PUBLISH
X-ORIGINAL-URL:https://whanganuimountainbikeclub.co.nz
X-WR-CALDESC:Events for Whanganui Mountain Bike Club
REFRESH-INTERVAL;VALUE=DURATION:PT1H
X-Robots-Tag:noindex
X-PUBLISHED-TTL:PT1H
BEGIN:VTIMEZONE
TZID:Pacific/Auckland
BEGIN:STANDARD
TZOFFSETFROM:+1300
TZOFFSETTO:+1200
TZNAME:NZST
DTSTART:20240406T140000
END:STANDARD
BEGIN:DAYLIGHT
TZOFFSETFROM:+1200
TZOFFSETTO:+1300
TZNAME:NZDT
DTSTART:20240928T140000
END:DAYLIGHT
BEGIN:STANDARD
TZOFFSETFROM:+1300
TZOFFSETTO:+1200
TZNAME:NZST
DTSTART:20250405T140000
END:STANDARD
BEGIN:DAYLIGHT
TZOFFSETFROM:+1200
TZOFFSETTO:+1300
TZNAME:NZDT
DTSTART:20250927T140000
END:DAYLIGHT
BEGIN:STANDARD
TZOFFSETFROM:+1300
TZOFFSETTO:+1200
TZNAME:NZST
DTSTART:20260404T140000
END:STANDARD
BEGIN:DAYLIGHT
TZOFFSETFROM:+1200
TZOFFSETTO:+1300
TZNAME:NZDT
DTSTART:20260926T140000
END:DAYLIGHT
END:VTIMEZONE
BEGIN:VEVENT
DTSTART;TZID=Pacific/Auckland:20250703T180000
DTEND;TZID=Pacific/Auckland:20250703T200000
DTSTAMP:20260423T072049
CREATED:20250605T221516Z
LAST-MODIFIED:20250605T222147Z
UID:1615-1751565600-1751572800@whanganuimountainbikeclub.co.nz
SUMMARY:Thursday 6pm club ride – Harakeke forest meet Lake Wiritoa domain car park
DESCRIPTION:
URL:https://whanganuimountainbikeclub.co.nz/event/thursday-6pm-club-ride-harakeke-forest-meet-lake-wiritoa-domain-car-park-5/
LOCATION:Araheke MTB Park\, Whanganui\, Araheke MTB Park\, Whanganui\, New Zealand
CATEGORIES:Thursday club ride
ATTACH;FMTTYPE=image/png:https://whanganuimountainbikeclub.co.nz/wp-content/uploads/2020/07/logo2.png
ORGANIZER;CN="Whanganui MTB club":MAILTO:whanganuimtbc@gmail.com
END:VEVENT
BEGIN:VEVENT
DTSTART;TZID=Pacific/Auckland:20250710T180000
DTEND;TZID=Pacific/Auckland:20250710T200000
DTSTAMP:20260423T072049
CREATED:20250605T222337Z
LAST-MODIFIED:20250605T222338Z
UID:1621-1752170400-1752177600@whanganuimountainbikeclub.co.nz
SUMMARY:Thursday 6pm winter ride – Urban – meeting at i-site
DESCRIPTION:
URL:https://whanganuimountainbikeclub.co.nz/event/thursday-6pm-winter-ride-urban-meeting-at-i-site-6/
LOCATION:iSite\, 31 Taupo Quay\, Whanganui\, 31 Taupo Quay\, Whanganui\, 4500\, New Zealand
CATEGORIES:Thursday club ride
ATTACH;FMTTYPE=image/png:https://whanganuimountainbikeclub.co.nz/wp-content/uploads/2020/07/logo2.png
ORGANIZER;CN="Whanganui MTB club":MAILTO:whanganuimtbc@gmail.com
END:VEVENT
BEGIN:VEVENT
DTSTART;TZID=Pacific/Auckland:20250713T110000
DTEND;TZID=Pacific/Auckland:20250713T160000
DTSTAMP:20260423T072049
CREATED:20250421T074915Z
LAST-MODIFIED:20250421T074915Z
UID:1574-1752404400-1752422400@whanganuimountainbikeclub.co.nz
SUMMARY:MMBC Winter series race 3 – Araheke MTB Park (Pauri ) – Pauri Domain Rd opposite prison
DESCRIPTION:The Central Bicycle Studio Winter Series is back for 2025\, with the first race of the series at Whanganui’s Araheke Trails on Sunday 11 May. We have four rounds planned for the all-weather trails at Whanganui’s Araheke Trails and Foxton MTB trails @ Tarfet reserve. Winter Series events have something for everyone\, from little nippers on balance bikes through to seasoned campaigners. While we time all riders and there’s competition for the top spots\, the emphasis is on having fun and challenging yourself.  We welcome E-bikes to all events. \nTo help us allocate numbers and get the race database organised before the first race\, we encourage club members (or members of other MTBNZ-affiliated clubs) to enter for the series online before the first race. As another incentive to enter online\, you will get entry for the four-race series for the price of 2.5 individual rounds.  You can also enter on the day (Cash Only). \nRound 1 (11 May) and Round 3 (13 July) are being held in Pauri opposite the prison off Pauri Domain Rd. \nRound 2 (15 June)  and Round 4 (10 Aug) in Foxton. \nCost is $10/race and $15/family for members of our club.  Online is $25 for the series and $50/family. \nRegistration for U13 is 11am-12.15pm\, 12.30pm start. \nRegistration for U15+ is 11.30am-1.15pm\, 1.30pm start. \nThe short course is about 3.5km and the long course is about 4km.  The number of times you go around the course depends on what category you are in.  \nPlease go to https://mmbc.co.nz/winterseries/ for more information and to enter online.
URL:https://whanganuimountainbikeclub.co.nz/event/mmbc-winter-series-race-3-araheke-mtb-park-pauri-pauri-domain-rd-opposite-prison/
LOCATION:Pauri Domain Rd\, Araheke MTB park\, Pauri Domain Rd\, Whanganui\, New Zealand
CATEGORIES:Winter series
END:VEVENT
BEGIN:VEVENT
DTSTART;TZID=Pacific/Auckland:20250717T180000
DTEND;TZID=Pacific/Auckland:20250717T200000
DTSTAMP:20260423T072049
CREATED:20250605T221606Z
LAST-MODIFIED:20250605T221946Z
UID:1617-1752775200-1752782400@whanganuimountainbikeclub.co.nz
SUMMARY:Thursday 6pm club ride – Harakeke forest meet Lake Wiritoa domain car park
DESCRIPTION:
URL:https://whanganuimountainbikeclub.co.nz/event/thursday-6pm-club-ride-harakeke-forest-meet-lake-wiritoa-domain-car-park-6/
LOCATION:Araheke MTB Park\, Whanganui\, Araheke MTB Park\, Whanganui\, New Zealand
CATEGORIES:Thursday club ride
ATTACH;FMTTYPE=image/png:https://whanganuimountainbikeclub.co.nz/wp-content/uploads/2020/07/logo2.png
ORGANIZER;CN="Whanganui MTB club":MAILTO:whanganuimtbc@gmail.com
END:VEVENT
BEGIN:VEVENT
DTSTART;TZID=Pacific/Auckland:20250720T100000
DTEND;TZID=Pacific/Auckland:20250720T163000
DTSTAMP:20260423T072049
CREATED:20250717T210018Z
LAST-MODIFIED:20250717T211308Z
UID:1653-1753005600-1753029000@whanganuimountainbikeclub.co.nz
SUMMARY:Mid winter (Sunday 20 July 2025) Mangahao dam ride
DESCRIPTION:We are a bit late with our midwinter ride this year but the weather forecast looks ok for this Sunday to go ahead with our traditional destination in the northern Tararua hills inland from Shannon.  An in-and-out ride starting and ending at Mangahao Hydro Station following a 4-wheel drive/clay road to the end at the third dam.  17km each way.  Two moderately steep and long hills\, scenic river\, dams and native bush.  About 3 hours in total with stops.   We will divide into groups according to bikes and abilities. \nMeet:  Kaitoke Hall site\, SH3 on Sunday 20 July at 10am to share transport.  https://maps.app.goo.gl/5s52zqtYxxEvFXaw7 \nJourney: 91km drive.  About 1.25 hours.   Bring lunch/snacks.  Opportunity for a skinny dip in the very cold water for a celebration and clean up. Wrap up warmly as it will be cold! \nIf the weather deteriorates then a cancellation email will follow on Friday evening.
URL:https://whanganuimountainbikeclub.co.nz/event/mid-winter-sunday-20-july-2025-mangahoe-dam-ride/
LOCATION:Mangahao dam\, 355 Mangahao Road\, Shannon\, 4474
CATEGORIES:Sunday rides
ATTACH;FMTTYPE=image/png:https://whanganuimountainbikeclub.co.nz/wp-content/uploads/2020/07/logo2.png
ORGANIZER;CN="Whanganui MTB club":MAILTO:whanganuimtbc@gmail.com
END:VEVENT
BEGIN:VEVENT
DTSTART;TZID=Pacific/Auckland:20250724T180000
DTEND;TZID=Pacific/Auckland:20250724T200000
DTSTAMP:20260423T072049
CREATED:20250605T222443Z
LAST-MODIFIED:20250605T222443Z
UID:1623-1753380000-1753387200@whanganuimountainbikeclub.co.nz
SUMMARY:Thursday 6pm winter ride – Urban – meeting at i-site
DESCRIPTION:
URL:https://whanganuimountainbikeclub.co.nz/event/thursday-6pm-winter-ride-urban-meeting-at-i-site-7/
LOCATION:iSite\, 31 Taupo Quay\, Whanganui\, 31 Taupo Quay\, Whanganui\, 4500\, New Zealand
CATEGORIES:Thursday club ride
ATTACH;FMTTYPE=image/png:https://whanganuimountainbikeclub.co.nz/wp-content/uploads/2020/07/logo2.png
ORGANIZER;CN="Whanganui MTB club":MAILTO:whanganuimtbc@gmail.com
END:VEVENT
BEGIN:VEVENT
DTSTART;TZID=Pacific/Auckland:20250731T180000
DTEND;TZID=Pacific/Auckland:20250731T200000
DTSTAMP:20260423T072049
CREATED:20250605T221716Z
LAST-MODIFIED:20250605T222115Z
UID:1619-1753984800-1753992000@whanganuimountainbikeclub.co.nz
SUMMARY:Thursday 6pm club ride – Harakeke forest meet Lake Wiritoa domain car park
DESCRIPTION:
URL:https://whanganuimountainbikeclub.co.nz/event/thursday-6pm-club-ride-harakeke-forest-meet-lake-wiritoa-domain-car-park-7/
LOCATION:Araheke MTB Park\, Whanganui\, Araheke MTB Park\, Whanganui\, New Zealand
CATEGORIES:Thursday club ride
ATTACH;FMTTYPE=image/png:https://whanganuimountainbikeclub.co.nz/wp-content/uploads/2020/07/logo2.png
ORGANIZER;CN="Whanganui MTB club":MAILTO:whanganuimtbc@gmail.com
END:VEVENT
END:VCALENDAR