BEGIN:VCALENDAR
VERSION:2.0
PRODID:-//Whanganui Mountain Bike Club - ECPv6.15.20//NONSGML v1.0//EN
CALSCALE:GREGORIAN
METHOD:PUBLISH
X-ORIGINAL-URL:https://whanganuimountainbikeclub.co.nz
X-WR-CALDESC:Events for Whanganui Mountain Bike Club
REFRESH-INTERVAL;VALUE=DURATION:PT1H
X-Robots-Tag:noindex
X-PUBLISHED-TTL:PT1H
BEGIN:VTIMEZONE
TZID:Pacific/Auckland
BEGIN:STANDARD
TZOFFSETFROM:+1300
TZOFFSETTO:+1200
TZNAME:NZST
DTSTART:20240406T140000
END:STANDARD
BEGIN:DAYLIGHT
TZOFFSETFROM:+1200
TZOFFSETTO:+1300
TZNAME:NZDT
DTSTART:20240928T140000
END:DAYLIGHT
BEGIN:STANDARD
TZOFFSETFROM:+1300
TZOFFSETTO:+1200
TZNAME:NZST
DTSTART:20250405T140000
END:STANDARD
BEGIN:DAYLIGHT
TZOFFSETFROM:+1200
TZOFFSETTO:+1300
TZNAME:NZDT
DTSTART:20250927T140000
END:DAYLIGHT
BEGIN:STANDARD
TZOFFSETFROM:+1300
TZOFFSETTO:+1200
TZNAME:NZST
DTSTART:20260404T140000
END:STANDARD
BEGIN:DAYLIGHT
TZOFFSETFROM:+1200
TZOFFSETTO:+1300
TZNAME:NZDT
DTSTART:20260926T140000
END:DAYLIGHT
END:VTIMEZONE
BEGIN:VEVENT
DTSTART;TZID=Pacific/Auckland:20250605T180000
DTEND;TZID=Pacific/Auckland:20250605T193000
DTSTAMP:20260423T085139
CREATED:20250421T073807Z
LAST-MODIFIED:20250421T073807Z
UID:1568-1749146400-1749151800@whanganuimountainbikeclub.co.nz
SUMMARY:Thursday 6pm club ride - Harakeke forest meet Lake Wiritoa domain car park
DESCRIPTION:
URL:https://whanganuimountainbikeclub.co.nz/event/thursday-6pm-club-ride-harakeke-forest-meet-lake-wiritoa-domain-car-park-3/
LOCATION:Araheke MTB Park\, Whanganui\, Araheke MTB Park\, Whanganui\, New Zealand
CATEGORIES:Thursday club ride
ATTACH;FMTTYPE=image/png:https://whanganuimountainbikeclub.co.nz/wp-content/uploads/2020/07/logo2.png
ORGANIZER;CN="Whanganui MTB club":MAILTO:whanganuimtbc@gmail.com
END:VEVENT
BEGIN:VEVENT
DTSTART;TZID=Pacific/Auckland:20250608T093000
DTEND;TZID=Pacific/Auckland:20250608T120000
DTSTAMP:20260423T085139
CREATED:20250605T221155Z
LAST-MODIFIED:20250605T221155Z
UID:1613-1749375000-1749384000@whanganuimountainbikeclub.co.nz
SUMMARY:Sunday ride - Lismore Forest - 9.30am
DESCRIPTION:This Sunday 8 June\, as rescheduled after last week’s motocross event\, is open for members to ride at any time on the gravel roads within the forest. \nMembers are welcome to join an ebike morning circuitous ride.  We will be mainly sticking to the main gravel roads\, starting and ending on SH4 but will also have a peek at one or two of the recent motocross enduro event tracks.     \nMeet – Corner SH4 and Old Parapara Rd (past the white bridge) on Sunday 8 June at 9.30am.  Big hills\, moderately steep in sections. \nMost of the extensive forest road system in Lismore is great for exploring.  Forest360 is keen that we utilize the forest roads and tracks more fully for recreational purposes. An ideal area for fit riders\, gravel and ebikes.
URL:https://whanganuimountainbikeclub.co.nz/event/sunday-ride-lismore-forest-9-30am/
LOCATION:Old Parapara Rd\, Whanganui\, -39.83179785210985\, 175.1671180173915
CATEGORIES:Sunday rides
ATTACH;FMTTYPE=image/png:https://whanganuimountainbikeclub.co.nz/wp-content/uploads/2020/07/logo2.png
ORGANIZER;CN="Whanganui MTB club":MAILTO:whanganuimtbc@gmail.com
END:VEVENT
BEGIN:VEVENT
DTSTART;TZID=Pacific/Auckland:20250612T180000
DTEND;TZID=Pacific/Auckland:20250612T193000
DTSTAMP:20260423T085139
CREATED:20250421T072713Z
LAST-MODIFIED:20250421T072713Z
UID:1559-1749751200-1749756600@whanganuimountainbikeclub.co.nz
SUMMARY:Thursday 6pm winter ride - Urban - meeting at i-site
DESCRIPTION:
URL:https://whanganuimountainbikeclub.co.nz/event/thursday-6pm-winter-ride-urban-meeting-at-i-site-4/
LOCATION:iSite\, 31 Taupo Quay\, Whanganui\, 31 Taupo Quay\, Whanganui\, 4500\, New Zealand
CATEGORIES:Thursday club ride
ATTACH;FMTTYPE=image/png:https://whanganuimountainbikeclub.co.nz/wp-content/uploads/2020/07/logo2.png
ORGANIZER;CN="Whanganui MTB club":MAILTO:whanganuimtbc@gmail.com
END:VEVENT
BEGIN:VEVENT
DTSTART;TZID=Pacific/Auckland:20250615T093000
DTEND;TZID=Pacific/Auckland:20250615T123000
DTSTAMP:20260423T085139
CREATED:20250611T054732Z
LAST-MODIFIED:20250611T055617Z
UID:1645-1749979800-1749990600@whanganuimountainbikeclub.co.nz
SUMMARY:Manawatu Tararua cycleway Sunday 15 June @ 9;30 am Meeting Western Gateway Park\, 1631 Napier Rd\, Aokatere 4471
DESCRIPTION:The new Manawatu Tararua Cycleway officially opened Wednesday 11 June 2025 and is a 11.5km trip to Woodville making for a 23Km return trip. Both Analogue and ebikes are suitable but a bit of fitness is required as the gradient on the western side is around 10% and a mere 8.5% on he eastern side. Bring warm clothing in case an easterly wind develops.
URL:https://whanganuimountainbikeclub.co.nz/event/manawatu-tararua-cycleway-sunday-15-june-930-am-meeting-western-gateway-park/
LOCATION:Western Gateway Park\, Manawatu Gorge\, 1631 Napier Rd\, Aokautere\, Aokatere\, Manawatu\, 4471\, New Zealand
CATEGORIES:Sunday rides
ATTACH;FMTTYPE=image/jpeg:https://whanganuimountainbikeclub.co.nz/wp-content/uploads/2025/06/Manawatu-Tararua-cycleway.jpg
ORGANIZER;CN="Whanganui MTB club":MAILTO:whanganuimtbc@gmail.com
END:VEVENT
BEGIN:VEVENT
DTSTART;TZID=Pacific/Auckland:20250615T110000
DTEND;TZID=Pacific/Auckland:20250615T160000
DTSTAMP:20260423T085139
CREATED:20250421T075124Z
LAST-MODIFIED:20250421T075124Z
UID:1576-1749985200-1750003200@whanganuimountainbikeclub.co.nz
SUMMARY:MMBC Winter series race 2 – Target reserve Foxton
DESCRIPTION:The Central Bicycle Studio Winter Series is back for 2025\, with the first race of the series at Whanganui’s Araheke Trails on Sunday 11 May. We have four rounds planned for the all-weather trails at Whanganui’s Araheke Trails and Foxton MTB trails @ Tarfet reserve. Winter Series events have something for everyone\, from little nippers on balance bikes through to seasoned campaigners. While we time all riders and there’s competition for the top spots\, the emphasis is on having fun and challenging yourself. We welcome E-bikes to all events. \nTo help us allocate numbers and get the race database organised before the first race\, we encourage club members (or members of other MTBNZ-affiliated clubs) to enter for the series online before the first race. As another incentive to enter online\, you will get entry for the four-race series for the price of 2.5 individual rounds. You can also enter on the day (Cash Only). \nRound 1 (11 May) and Round 3 (13 July) are being held in Pauri opposite the prison off Pauri Domain Rd. \nRound 2 (15 June) and Round 4 (10 Aug) in Foxton. \nCost is $10/race and $15/family for members of our club. Online is $25 for the series and $50/family. \nRegistration for U13 is 11am-12.15pm\, 12.30pm start. \nRegistration for U15+ is 11.30am-1.15pm\, 1.30pm start. \nThe short course is about 3.5km and the long course is about 4km. The number of times you go around the course depends on what category you are in. \nPlease go to https://mmbc.co.nz/winterseries/ for more information and to enter online.
URL:https://whanganuimountainbikeclub.co.nz/event/mmbc-winter-series-race-2-target-reserve-foxton/
LOCATION:Target Reserve\, Foxton\, 47 SH 1\, Foxton\, New Zealand
END:VEVENT
BEGIN:VEVENT
DTSTART;TZID=Pacific/Auckland:20250619T080000
DTEND;TZID=Pacific/Auckland:20250619T170000
DTSTAMP:20260423T085139
CREATED:20250421T073849Z
LAST-MODIFIED:20250421T073849Z
UID:1570-1750320000-1750352400@whanganuimountainbikeclub.co.nz
SUMMARY:Thursday 6pm club ride - Harakeke forest meet Lake Wiritoa domain car park
DESCRIPTION:
URL:https://whanganuimountainbikeclub.co.nz/event/thursday-6pm-club-ride-harakeke-forest-meet-lake-wiritoa-domain-car-park-4/
LOCATION:Araheke MTB Park\, Whanganui\, Araheke MTB Park\, Whanganui\, New Zealand
CATEGORIES:Thursday club ride
ATTACH;FMTTYPE=image/png:https://whanganuimountainbikeclub.co.nz/wp-content/uploads/2020/07/logo2.png
ORGANIZER;CN="Whanganui MTB club":MAILTO:whanganuimtbc@gmail.com
END:VEVENT
BEGIN:VEVENT
DTSTART;TZID=Pacific/Auckland:20250625T190000
DTEND;TZID=Pacific/Auckland:20250625T200000
DTSTAMP:20260423T085139
CREATED:20250430T001011Z
LAST-MODIFIED:20250606T001733Z
UID:1606-1750878000-1750881600@whanganuimountainbikeclub.co.nz
SUMMARY:AGM Wednesday 25 June 2025 @ 7pm\, Aramoho Rowing Club\, 198 Somme Parade\, Aramoho\, Whanganui
DESCRIPTION:Guest speaker Paul Chaplow – Adventure racing/Bikepacking over the years
URL:https://whanganuimountainbikeclub.co.nz/event/agm-wednesday-25-june-2025-7pm-kitchen-contours-379-wicksteed-st-whanganui/
LOCATION:Caroline’s Boatshed Bar and Eatery\, 181 Somme Parade\, Aramoho\,\, Whanganui\, 4500\, New Zealand
CATEGORIES:AGM
ATTACH;FMTTYPE=image/png:https://whanganuimountainbikeclub.co.nz/wp-content/uploads/2020/07/logo2.png
END:VEVENT
BEGIN:VEVENT
DTSTART;TZID=Pacific/Auckland:20250626T180000
DTEND;TZID=Pacific/Auckland:20250626T193000
DTSTAMP:20260423T085139
CREATED:20250421T072808Z
LAST-MODIFIED:20250421T072808Z
UID:1561-1750960800-1750966200@whanganuimountainbikeclub.co.nz
SUMMARY:Thursday 6pm winter ride - Urban - meeting at i-site
DESCRIPTION:
URL:https://whanganuimountainbikeclub.co.nz/event/thursday-6pm-winter-ride-urban-meeting-at-i-site-5/
LOCATION:iSite\, 31 Taupo Quay\, Whanganui\, 31 Taupo Quay\, Whanganui\, 4500\, New Zealand
CATEGORIES:Thursday club ride
ATTACH;FMTTYPE=image/png:https://whanganuimountainbikeclub.co.nz/wp-content/uploads/2020/07/logo2.png
ORGANIZER;CN="Whanganui MTB club":MAILTO:whanganuimtbc@gmail.com
END:VEVENT
END:VCALENDAR