BEGIN:VCALENDAR
VERSION:2.0
PRODID:-//Whanganui Mountain Bike Club - ECPv6.15.20//NONSGML v1.0//EN
CALSCALE:GREGORIAN
METHOD:PUBLISH
X-ORIGINAL-URL:https://whanganuimountainbikeclub.co.nz
X-WR-CALDESC:Events for Whanganui Mountain Bike Club
REFRESH-INTERVAL;VALUE=DURATION:PT1H
X-Robots-Tag:noindex
X-PUBLISHED-TTL:PT1H
BEGIN:VTIMEZONE
TZID:Pacific/Auckland
BEGIN:STANDARD
TZOFFSETFROM:+1300
TZOFFSETTO:+1200
TZNAME:NZST
DTSTART:20240406T140000
END:STANDARD
BEGIN:DAYLIGHT
TZOFFSETFROM:+1200
TZOFFSETTO:+1300
TZNAME:NZDT
DTSTART:20240928T140000
END:DAYLIGHT
BEGIN:STANDARD
TZOFFSETFROM:+1300
TZOFFSETTO:+1200
TZNAME:NZST
DTSTART:20250405T140000
END:STANDARD
BEGIN:DAYLIGHT
TZOFFSETFROM:+1200
TZOFFSETTO:+1300
TZNAME:NZDT
DTSTART:20250927T140000
END:DAYLIGHT
BEGIN:STANDARD
TZOFFSETFROM:+1300
TZOFFSETTO:+1200
TZNAME:NZST
DTSTART:20260404T140000
END:STANDARD
BEGIN:DAYLIGHT
TZOFFSETFROM:+1200
TZOFFSETTO:+1300
TZNAME:NZDT
DTSTART:20260926T140000
END:DAYLIGHT
END:VTIMEZONE
BEGIN:VEVENT
DTSTART;TZID=Pacific/Auckland:20250501T180000
DTEND;TZID=Pacific/Auckland:20250501T193000
DTSTAMP:20260423T102705
CREATED:20250421T072337Z
LAST-MODIFIED:20250421T072337Z
UID:1553-1746122400-1746127800@whanganuimountainbikeclub.co.nz
SUMMARY:Thursday 6pm winter ride - Urban - meeting at i-site
DESCRIPTION:
URL:https://whanganuimountainbikeclub.co.nz/event/thursday-6pm-winter-ride-urban-meeting-at-i-site/
LOCATION:iSite\, 31 Taupo Quay\, Whanganui\, 31 Taupo Quay\, Whanganui\, 4500\, New Zealand
CATEGORIES:Thursday club ride
ATTACH;FMTTYPE=image/png:https://whanganuimountainbikeclub.co.nz/wp-content/uploads/2020/07/logo2.png
END:VEVENT
BEGIN:VEVENT
DTSTART;TZID=Pacific/Auckland:20250508T180000
DTEND;TZID=Pacific/Auckland:20250508T193000
DTSTAMP:20260423T102705
CREATED:20250421T073112Z
LAST-MODIFIED:20250421T073547Z
UID:1563-1746727200-1746732600@whanganuimountainbikeclub.co.nz
SUMMARY:Thursday 6pm club ride - Harakeke forest meet Lake Wiritoa domain car park
DESCRIPTION:
URL:https://whanganuimountainbikeclub.co.nz/event/thursday-6pm-club-ride-harakeke-forest-meet-lake-wiritoa-domain-car-park/
LOCATION:Araheke Mountain Bike Park\, 316 Kaitoke Road\, Kaitoke\, Wanganui\, 4572\, New Zealand
CATEGORIES:Thursday club ride
ATTACH;FMTTYPE=image/png:https://whanganuimountainbikeclub.co.nz/wp-content/uploads/2020/07/logo2.png
ORGANIZER;CN="Whanganui MTB club":MAILTO:whanganuimtbc@gmail.com
END:VEVENT
BEGIN:VEVENT
DTSTART;TZID=Pacific/Auckland:20250511T110000
DTEND;TZID=Pacific/Auckland:20250511T160000
DTSTAMP:20260423T102705
CREATED:20250421T074646Z
LAST-MODIFIED:20250421T074646Z
UID:1572-1746961200-1746979200@whanganuimountainbikeclub.co.nz
SUMMARY:MMBC Winter series race 1 - Araheke MTB Park (Pauri ) - Pauri Domain Rd opposite prison
DESCRIPTION:The Central Bicycle Studio Winter Series is back for 2025\, with the first race of the series at Whanganui’s Araheke Trails on Sunday 11 May. We have four rounds planned for the all-weather trails at Whanganui’s Araheke Trails and Foxton MTB trails @ Tarfet reserve. Winter Series events have something for everyone\, from little nippers on balance bikes through to seasoned campaigners. While we time all riders and there’s competition for the top spots\, the emphasis is on having fun and challenging yourself.  We welcome E-bikes to all events. \nTo help us allocate numbers and get the race database organised before the first race\, we encourage club members (or members of other MTBNZ-affiliated clubs) to enter for the series online before the first race. As another incentive to enter online\, you will get entry for the four-race series for the price of 2.5 individual rounds.  You can also enter on the day (Cash Only). \nRound 1 (11 May) and Round 3 (13 July) are being held in Pauri opposite the prison off Pauri Domain Rd. \nRound 2 (15 June)  and Round 4 (10 Aug) in Foxton. \nCost is $10/race and $15/family for members of our club.  Online is $25 for the series and $50/family. \nRegistration for U13 is 11am-12.15pm\, 12.30pm start. \nRegistration for U15+ is 11.30am-1.15pm\, 1.30pm start. \nThe short course is about 3.5km and the long course is about 4km.  The number of times you go around the course depends on what category you are in.  \nPlease go to https://mmbc.co.nz/winterseries/ for more information and to enter online.
URL:https://whanganuimountainbikeclub.co.nz/event/mmbc-winter-series-race-1-araheke-mtb-park-pauri-pauri-domain-rd-opposite-prison/
LOCATION:Pauri Domain Rd\, Araheke MTB park\, Pauri Domain Rd\, Whanganui\, New Zealand
CATEGORIES:Winter series
END:VEVENT
BEGIN:VEVENT
DTSTART;TZID=Pacific/Auckland:20250515T180000
DTEND;TZID=Pacific/Auckland:20250515T193000
DTSTAMP:20260423T102705
CREATED:20250421T072511Z
LAST-MODIFIED:20250421T072511Z
UID:1555-1747332000-1747337400@whanganuimountainbikeclub.co.nz
SUMMARY:Thursday 6pm winter ride - Urban - meeting at i-site
DESCRIPTION:
URL:https://whanganuimountainbikeclub.co.nz/event/thursday-6pm-winter-ride-urban-meeting-at-i-site-2/
LOCATION:iSite\, 31 Taupo Quay\, Whanganui\, 31 Taupo Quay\, Whanganui\, 4500\, New Zealand
CATEGORIES:Thursday club ride
ORGANIZER;CN="Whanganui MTB club":MAILTO:whanganuimtbc@gmail.com
END:VEVENT
BEGIN:VEVENT
DTSTART;TZID=Pacific/Auckland:20250522T180000
DTEND;TZID=Pacific/Auckland:20250522T193000
DTSTAMP:20260423T102705
CREATED:20250421T073716Z
LAST-MODIFIED:20250421T073716Z
UID:1566-1747936800-1747942200@whanganuimountainbikeclub.co.nz
SUMMARY:Thursday 6pm club ride - Harakeke forest meet Lake Wiritoa domain car park
DESCRIPTION:
URL:https://whanganuimountainbikeclub.co.nz/event/thursday-6pm-club-ride-harakeke-forest-meet-lake-wiritoa-domain-car-park-2/
LOCATION:Araheke MTB Park\, Whanganui\, Araheke MTB Park\, Whanganui\, New Zealand
CATEGORIES:Thursday club ride
ATTACH;FMTTYPE=image/png:https://whanganuimountainbikeclub.co.nz/wp-content/uploads/2020/07/logo2.png
ORGANIZER;CN="Whanganui MTB club":MAILTO:whanganuimtbc@gmail.com
END:VEVENT
BEGIN:VEVENT
DTSTART;TZID=Pacific/Auckland:20250529T180000
DTEND;TZID=Pacific/Auckland:20250529T193000
DTSTAMP:20260423T102705
CREATED:20250421T072611Z
LAST-MODIFIED:20250421T072611Z
UID:1557-1748541600-1748547000@whanganuimountainbikeclub.co.nz
SUMMARY:Thursday 6pm winter ride - Urban - meeting at i-site
DESCRIPTION:
URL:https://whanganuimountainbikeclub.co.nz/event/thursday-6pm-winter-ride-urban-meeting-at-i-site-3/
LOCATION:iSite\, 31 Taupo Quay\, Whanganui\, 31 Taupo Quay\, Whanganui\, 4500\, New Zealand
CATEGORIES:Thursday club ride
ATTACH;FMTTYPE=image/png:https://whanganuimountainbikeclub.co.nz/wp-content/uploads/2020/07/logo2.png
ORGANIZER;CN="Whanganui MTB club":MAILTO:whanganuimtbc@gmail.com
END:VEVENT
END:VCALENDAR