BEGIN:VCALENDAR
VERSION:2.0
PRODID:-//Whanganui Mountain Bike Club - ECPv6.15.20//NONSGML v1.0//EN
CALSCALE:GREGORIAN
METHOD:PUBLISH
X-ORIGINAL-URL:https://whanganuimountainbikeclub.co.nz
X-WR-CALDESC:Events for Whanganui Mountain Bike Club
REFRESH-INTERVAL;VALUE=DURATION:PT1H
X-Robots-Tag:noindex
X-PUBLISHED-TTL:PT1H
BEGIN:VTIMEZONE
TZID:Pacific/Auckland
BEGIN:STANDARD
TZOFFSETFROM:+1300
TZOFFSETTO:+1200
TZNAME:NZST
DTSTART:20230401T140000
END:STANDARD
BEGIN:DAYLIGHT
TZOFFSETFROM:+1200
TZOFFSETTO:+1300
TZNAME:NZDT
DTSTART:20230923T140000
END:DAYLIGHT
BEGIN:STANDARD
TZOFFSETFROM:+1300
TZOFFSETTO:+1200
TZNAME:NZST
DTSTART:20240406T140000
END:STANDARD
BEGIN:DAYLIGHT
TZOFFSETFROM:+1200
TZOFFSETTO:+1300
TZNAME:NZDT
DTSTART:20240928T140000
END:DAYLIGHT
BEGIN:STANDARD
TZOFFSETFROM:+1300
TZOFFSETTO:+1200
TZNAME:NZST
DTSTART:20250405T140000
END:STANDARD
BEGIN:DAYLIGHT
TZOFFSETFROM:+1200
TZOFFSETTO:+1300
TZNAME:NZDT
DTSTART:20250927T140000
END:DAYLIGHT
END:VTIMEZONE
BEGIN:VEVENT
DTSTART;TZID=Pacific/Auckland:20241107T180000
DTEND;TZID=Pacific/Auckland:20241107T200000
DTSTAMP:20260423T200006
CREATED:20241106T062044Z
LAST-MODIFIED:20241106T062045Z
UID:1488-1731002400-1731009600@whanganuimountainbikeclub.co.nz
SUMMARY:Nov 7 - Tokomaru East Forest - meet at Brunswick Hall (16km loop via Kai Iwi stream).  This is weather dependent and will not go ahead if it rains.
DESCRIPTION:
URL:https://whanganuimountainbikeclub.co.nz/event/nov-7-tokomaru-east-forest-meet-at-brunswick-hall-16km-loop-via-kai-iwi-stream-this-is-weather-dependent-and-will-not-go-ahead-if-it-rains/
LOCATION:Brunswick Hall\, Brunswick hall\, Whanganui\, 4571
CATEGORIES:Thursday club ride
ORGANIZER;CN="Whanganui MTB club":MAILTO:whanganuimtbc@gmail.com
END:VEVENT
BEGIN:VEVENT
DTSTART;TZID=Pacific/Auckland:20241110T100000
DTEND;TZID=Pacific/Auckland:20241110T130000
DTSTAMP:20260423T200006
CREATED:20241106T033222Z
LAST-MODIFIED:20241106T053725Z
UID:1473-1731232800-1731243600@whanganuimountainbikeclub.co.nz
SUMMARY:Sunday Club Ride - Gentle Annie lookout/Oskam farm loop - 10am
DESCRIPTION:Frank Oskam will lead this scenic ride partly through the Oskam’s farm.   \nMeet at the X-Gate\, (500m past the Kaiwhaiki road turnoff on SH4)\, for a 10.00am start this Sunday 10 November. The gate will be open and members can park off road inside under the trees. \nThe ride starts there through the lower farm\, pops out onto the river road and up to Gentle Annie lookout.  At the top the route goes back onto a farm track beside the Whanganui River\, past the pyramid to “That Place” bike park.  Beginners could be picked up here or bikers could carry on along Kaiwhaiki Rd back to the cars for a 30km loop. \nThe more adventurous and ebikers could follow Frank on an alternative but a steeper way back to the cars from ‘That Place’. \nhttps://maps.app.goo.gl/f2TV88KFGULDeMvo6
URL:https://whanganuimountainbikeclub.co.nz/event/sunday-club-ride-gentle-annie-lookout-oskam-farm-loop-10am/
LOCATION:Oskam SH4 meeting place\, 627 SH4\, Whanganui\, 4575
CATEGORIES:Sunday rides
ATTACH;FMTTYPE=image/png:https://whanganuimountainbikeclub.co.nz/wp-content/uploads/2020/07/logo2.png
ORGANIZER;CN="Whanganui MTB club":MAILTO:whanganuimtbc@gmail.com
END:VEVENT
BEGIN:VEVENT
DTSTART;TZID=Pacific/Auckland:20241110T100000
DTEND;TZID=Pacific/Auckland:20241110T153000
DTSTAMP:20260423T200006
CREATED:20240821T081018Z
LAST-MODIFIED:20240821T081514Z
UID:1426-1731232800-1731252600@whanganuimountainbikeclub.co.nz
SUMMARY:Sunday November 10th: Lismore Shuttles 10am- 3:30pm $20. Txt Craig 021 2277094 for enquiries and check out Wanganui Downhill on Facebook for details closer to the time.
DESCRIPTION:Sunday November 10th: Lismore Shuttles 10am- 3:30pm $20. Txt Craig 021 2277094 for enquiries and check out Wanganui Downhill on Facebook for details closer to the time.
URL:https://whanganuimountainbikeclub.co.nz/event/sunday-november-10th-lismore-shuttles-10am-330pm-20-txt-craig-021-2277094-for-enquiries-and-check-out-wanganui-downhill-on-facebook-for-details-closer-to-the-time-2/
LOCATION:Parihauhau rd turn off\, 1 Parihauhau Road\, New Zealand
CATEGORIES:Downhill trailer day
ATTACH;FMTTYPE=image/jpeg:https://whanganuimountainbikeclub.co.nz/wp-content/uploads/2024/08/downhill.jpg
ORGANIZER;CN="Whanganui MTB club":MAILTO:whanganuimtbc@gmail.com
END:VEVENT
BEGIN:VEVENT
DTSTART;TZID=Pacific/Auckland:20241114T180000
DTEND;TZID=Pacific/Auckland:20241114T200000
DTSTAMP:20260423T200006
CREATED:20241106T054456Z
LAST-MODIFIED:20241106T054649Z
UID:1480-1731607200-1731614400@whanganuimountainbikeclub.co.nz
SUMMARY:Thursday 6pm club ride - Hyltons Pit - meet Brunswick Rd gate
DESCRIPTION:We will do the majority of our rides in Hyltons Pit for the summer season and any other rides will be advertised earlier in the week (usually if too wet in Hylton).  The club has a list of ‘leaders’ who when present on any ride would be prepared to lead that particular group.  Our rides will take about 1.5 hours in total with short stops.  An optional drink afterwards at Caroline’s is a convivial end to the evening!
URL:https://whanganuimountainbikeclub.co.nz/event/thursday-6pm-club-ride-hyltons-pit-meet-brunswick-rd-gate/
LOCATION:Hyltons Pit\, 56 Brunswick Rd\,\, Whanganui\, 4571\, New Zealand
CATEGORIES:Thursday club ride
ORGANIZER;CN="Whanganui MTB club":MAILTO:whanganuimtbc@gmail.com
END:VEVENT
BEGIN:VEVENT
DTSTART;TZID=Pacific/Auckland:20241116T070000
DTEND;TZID=Pacific/Auckland:20241116T160000
DTSTAMP:20260423T200006
CREATED:20241101T085128Z
LAST-MODIFIED:20241101T085847Z
UID:1465-1731740400-1731772800@whanganuimountainbikeclub.co.nz
SUMMARY:MMBC Club Enduro
DESCRIPTION:The Club Enduro is the MMBC first event of the summer riding season. Its a chance for us to reconnect over what we all love – mountain biking at Arapuke! \nThis year we have spiced it up a little bit. We have the easy course which will have 3 stages (Grade 3) for a fun event. The hard course will be 5 stages and will be hard. It will have grade 4 and 5 trails. \nThis is a fun event and everyone is welcome to come and ride\, only members riding the hard course will be in the running for the enduro champ title.  Riders of all levels are encouraged and supported to participate\, whether it’s your first race or you are riding for the champ title.\nregistration – https://mmbcenduro.lilregie.com/booking/attendees/new
URL:https://whanganuimountainbikeclub.co.nz/event/mmbc-club-enduro/
LOCATION:Arapuke bottom carpark\, https://maps.app.goo.gl/GFQcrCXF58ysZ16F7
CATEGORIES:MMBC event
ATTACH;FMTTYPE=image/webp:https://whanganuimountainbikeclub.co.nz/wp-content/uploads/2024/11/Club-Enduro-2024-Event-Webiste.webp
END:VEVENT
BEGIN:VEVENT
DTSTART;TZID=Pacific/Auckland:20241121T180000
DTEND;TZID=Pacific/Auckland:20241121T200000
DTSTAMP:20260423T200006
CREATED:20241106T054836Z
LAST-MODIFIED:20241106T054837Z
UID:1482-1732212000-1732219200@whanganuimountainbikeclub.co.nz
SUMMARY:Thursday 6pm club ride – Hyltons Pit – meet Brunswick Rd gate
DESCRIPTION:We will do the majority of our rides in Hyltons Pit for the summer season and any other rides will be advertised earlier in the week (usually if too wet in Hylton).  The club has a list of ‘leaders’ who when present on any ride would be prepared to lead that particular group.  Our rides will take about 1.5 hours in total with short stops.  An optional drink afterwards at Caroline’s is a convivial end to the evening!
URL:https://whanganuimountainbikeclub.co.nz/event/thursday-6pm-club-ride-hyltons-pit-meet-brunswick-rd-gate-2/
LOCATION:Hyltons Pit\, 56 Brunswick Rd\,\, Whanganui\, 4571\, New Zealand
CATEGORIES:Thursday club ride
ORGANIZER;CN="Whanganui MTB club":MAILTO:whanganuimtbc@gmail.com
END:VEVENT
BEGIN:VEVENT
DTSTART;TZID=Pacific/Auckland:20241128T180000
DTEND;TZID=Pacific/Auckland:20241128T200000
DTSTAMP:20260423T200006
CREATED:20241124T195506Z
LAST-MODIFIED:20241124T195614Z
UID:1503-1732816800-1732824000@whanganuimountainbikeclub.co.nz
SUMMARY:Xmas Crit Races - Thursday 6pm @ Hyltons Pit\, Brunswick Rd - 28/11\, 5/12 & 12/12
DESCRIPTION:The Xmas Dirt Crit races are back for 2024. 3 Races 28 November\, 5 & 12 December @6pm. Gold coin donation
URL:https://whanganuimountainbikeclub.co.nz/event/xmas-crit-races-thursday-6pm-hyltons-pit-brunswick-rd-28-11-5-12-12-12/
LOCATION:Hyltons Pit\, 56 Brunswick Rd\,\, Whanganui\, 4571\, New Zealand
CATEGORIES:Crit Races
ATTACH;FMTTYPE=image/png:https://whanganuimountainbikeclub.co.nz/wp-content/uploads/2024/11/crit.png
ORGANIZER;CN="Whanganui MTB club":MAILTO:whanganuimtbc@gmail.com
END:VEVENT
END:VCALENDAR