BEGIN:VCALENDAR
VERSION:2.0
PRODID:-//Whanganui Mountain Bike Club - ECPv6.15.20//NONSGML v1.0//EN
CALSCALE:GREGORIAN
METHOD:PUBLISH
X-WR-CALNAME:Whanganui Mountain Bike Club
X-ORIGINAL-URL:https://whanganuimountainbikeclub.co.nz
X-WR-CALDESC:Events for Whanganui Mountain Bike Club
REFRESH-INTERVAL;VALUE=DURATION:PT1H
X-Robots-Tag:noindex
X-PUBLISHED-TTL:PT1H
BEGIN:VTIMEZONE
TZID:Pacific/Auckland
BEGIN:STANDARD
TZOFFSETFROM:+1300
TZOFFSETTO:+1200
TZNAME:NZST
DTSTART:20230401T140000
END:STANDARD
BEGIN:DAYLIGHT
TZOFFSETFROM:+1200
TZOFFSETTO:+1300
TZNAME:NZDT
DTSTART:20230923T140000
END:DAYLIGHT
BEGIN:STANDARD
TZOFFSETFROM:+1300
TZOFFSETTO:+1200
TZNAME:NZST
DTSTART:20240406T140000
END:STANDARD
BEGIN:DAYLIGHT
TZOFFSETFROM:+1200
TZOFFSETTO:+1300
TZNAME:NZDT
DTSTART:20240928T140000
END:DAYLIGHT
BEGIN:STANDARD
TZOFFSETFROM:+1300
TZOFFSETTO:+1200
TZNAME:NZST
DTSTART:20250405T140000
END:STANDARD
BEGIN:DAYLIGHT
TZOFFSETFROM:+1200
TZOFFSETTO:+1300
TZNAME:NZDT
DTSTART:20250927T140000
END:DAYLIGHT
BEGIN:STANDARD
TZOFFSETFROM:+1300
TZOFFSETTO:+1200
TZNAME:NZST
DTSTART:20260404T140000
END:STANDARD
BEGIN:DAYLIGHT
TZOFFSETFROM:+1200
TZOFFSETTO:+1300
TZNAME:NZDT
DTSTART:20260926T140000
END:DAYLIGHT
END:VTIMEZONE
BEGIN:VEVENT
DTSTART;TZID=Pacific/Auckland:20250501T180000
DTEND;TZID=Pacific/Auckland:20250501T193000
DTSTAMP:20260423T041945
CREATED:20250421T072337Z
LAST-MODIFIED:20250421T072337Z
UID:1553-1746122400-1746127800@whanganuimountainbikeclub.co.nz
SUMMARY:Thursday 6pm winter ride - Urban - meeting at i-site
DESCRIPTION:
URL:https://whanganuimountainbikeclub.co.nz/event/thursday-6pm-winter-ride-urban-meeting-at-i-site/
LOCATION:iSite\, 31 Taupo Quay\, Whanganui\, 31 Taupo Quay\, Whanganui\, 4500\, New Zealand
CATEGORIES:Thursday club ride
ATTACH;FMTTYPE=image/png:https://whanganuimountainbikeclub.co.nz/wp-content/uploads/2020/07/logo2.png
END:VEVENT
BEGIN:VEVENT
DTSTART;TZID=Pacific/Auckland:20250116T180000
DTEND;TZID=Pacific/Auckland:20250116T193000
DTSTAMP:20260423T041945
CREATED:20250113T205507Z
LAST-MODIFIED:20250113T205507Z
UID:1543-1737050400-1737055800@whanganuimountainbikeclub.co.nz
SUMMARY:Thursday 6pm club rides - Hylton's Pit for the summer - Meet Brunswick Rd opposite Ravensdown and conclude with a social drink at Carolines for those interested
DESCRIPTION:
URL:https://whanganuimountainbikeclub.co.nz/event/thursday-6pm-club-rides-hyltons-pit-for-the-summer-meet-brunswick-rd-opposite-ravensdown-and-conclude-with-a-social-drink-at-carolines-for-those-interested/
LOCATION:Hyltons Pit\, 56 Brunswick Rd\,\, Whanganui\, 4571\, New Zealand
CATEGORIES:Thursday club ride
ATTACH;FMTTYPE=image/jpeg:https://whanganuimountainbikeclub.co.nz/wp-content/uploads/2020/09/hyltons-pit.jpg
ORGANIZER;CN="Whanganui MTB club":MAILTO:whanganuimtbc@gmail.com
END:VEVENT
BEGIN:VEVENT
DTSTART;TZID=Pacific/Auckland:20241121T180000
DTEND;TZID=Pacific/Auckland:20241121T200000
DTSTAMP:20260423T041945
CREATED:20241106T054836Z
LAST-MODIFIED:20241106T054837Z
UID:1482-1732212000-1732219200@whanganuimountainbikeclub.co.nz
SUMMARY:Thursday 6pm club ride – Hyltons Pit – meet Brunswick Rd gate
DESCRIPTION:We will do the majority of our rides in Hyltons Pit for the summer season and any other rides will be advertised earlier in the week (usually if too wet in Hylton).  The club has a list of ‘leaders’ who when present on any ride would be prepared to lead that particular group.  Our rides will take about 1.5 hours in total with short stops.  An optional drink afterwards at Caroline’s is a convivial end to the evening!
URL:https://whanganuimountainbikeclub.co.nz/event/thursday-6pm-club-ride-hyltons-pit-meet-brunswick-rd-gate-2/
LOCATION:Hyltons Pit\, 56 Brunswick Rd\,\, Whanganui\, 4571\, New Zealand
CATEGORIES:Thursday club ride
ORGANIZER;CN="Whanganui MTB club":MAILTO:whanganuimtbc@gmail.com
END:VEVENT
BEGIN:VEVENT
DTSTART;TZID=Pacific/Auckland:20241114T180000
DTEND;TZID=Pacific/Auckland:20241114T200000
DTSTAMP:20260423T041945
CREATED:20241106T054456Z
LAST-MODIFIED:20241106T054649Z
UID:1480-1731607200-1731614400@whanganuimountainbikeclub.co.nz
SUMMARY:Thursday 6pm club ride - Hyltons Pit - meet Brunswick Rd gate
DESCRIPTION:We will do the majority of our rides in Hyltons Pit for the summer season and any other rides will be advertised earlier in the week (usually if too wet in Hylton).  The club has a list of ‘leaders’ who when present on any ride would be prepared to lead that particular group.  Our rides will take about 1.5 hours in total with short stops.  An optional drink afterwards at Caroline’s is a convivial end to the evening!
URL:https://whanganuimountainbikeclub.co.nz/event/thursday-6pm-club-ride-hyltons-pit-meet-brunswick-rd-gate/
LOCATION:Hyltons Pit\, 56 Brunswick Rd\,\, Whanganui\, 4571\, New Zealand
CATEGORIES:Thursday club ride
ORGANIZER;CN="Whanganui MTB club":MAILTO:whanganuimtbc@gmail.com
END:VEVENT
BEGIN:VEVENT
DTSTART;TZID=Pacific/Auckland:20241107T180000
DTEND;TZID=Pacific/Auckland:20241107T200000
DTSTAMP:20260423T041945
CREATED:20241106T062044Z
LAST-MODIFIED:20241106T062045Z
UID:1488-1731002400-1731009600@whanganuimountainbikeclub.co.nz
SUMMARY:Nov 7 - Tokomaru East Forest - meet at Brunswick Hall (16km loop via Kai Iwi stream).  This is weather dependent and will not go ahead if it rains.
DESCRIPTION:
URL:https://whanganuimountainbikeclub.co.nz/event/nov-7-tokomaru-east-forest-meet-at-brunswick-hall-16km-loop-via-kai-iwi-stream-this-is-weather-dependent-and-will-not-go-ahead-if-it-rains/
LOCATION:Brunswick Hall\, Brunswick hall\, Whanganui\, 4571
CATEGORIES:Thursday club ride
ORGANIZER;CN="Whanganui MTB club":MAILTO:whanganuimtbc@gmail.com
END:VEVENT
BEGIN:VEVENT
DTSTART;TZID=Pacific/Auckland:20241031T180000
DTEND;TZID=Pacific/Auckland:20241031T200000
DTSTAMP:20260423T041945
CREATED:20240909T210547Z
LAST-MODIFIED:20240909T210630Z
UID:1444-1730397600-1730404800@whanganuimountainbikeclub.co.nz
SUMMARY:Thursday 6pm Club ride meet Araheke MTB Park (Lake Wiritoa car park) October 31 @ 6:00 pm - 8:00 pm
DESCRIPTION:Thursday 6pm Club ride meet Araheke MTB Park (Lake Wiritoa car park)\nOctober 31 @ 6:00 pm – 8:00 pm \nMeet Araheke MTB Park (Lake Wiritoa car park). 1.5-2hr ride. Bring own refreshment for a convivial chat afterwards if interested.
URL:https://whanganuimountainbikeclub.co.nz/event/thursday-6pm-club-ride-meet-araheke-mtb-park-lake-wiritoa-car-park-october-31-600-pm-800-pm-meet-araheke-mtb-park-lake-wiritoa-car-park-1-5-2hr-ride-bring-own-refreshment-for-a-convivial/
LOCATION:Araheke MTB Park\, Whanganui\, Araheke MTB Park\, Whanganui\, New Zealand
CATEGORIES:Thursday club ride
ORGANIZER;CN="Whanganui MTB club":MAILTO:whanganuimtbc@gmail.com
END:VEVENT
BEGIN:VEVENT
DTSTART;TZID=Pacific/Auckland:20241024T180000
DTEND;TZID=Pacific/Auckland:20241024T200000
DTSTAMP:20260423T041945
CREATED:20240909T211356Z
LAST-MODIFIED:20240909T211955Z
UID:1450-1729792800-1729800000@whanganuimountainbikeclub.co.nz
SUMMARY:Thursday club ride – Hyltons Pit meet @6pm October 24 @ 6:00 pm - 8:00 pm
DESCRIPTION:Thursday club ride – Hyltons Pit meet @6pm – 8pm\nOctober 24  \nMeet Hyltons Pit @ 6-8pm with a convivial drink afterwards at Carolines for those that are interested
URL:https://whanganuimountainbikeclub.co.nz/event/thursday-club-ride-hyltons-pit-meet-6pm-october-24-600-pm-800-pm/
LOCATION:Hyltons Pit\, 56 Brunswick Rd\,\, Whanganui\, 4571\, New Zealand
CATEGORIES:Thursday club ride
ORGANIZER;CN="Whanganui MTB club":MAILTO:whanganuimtbc@gmail.com
END:VEVENT
BEGIN:VEVENT
DTSTART;TZID=Pacific/Auckland:20241017T180000
DTEND;TZID=Pacific/Auckland:20241017T200000
DTSTAMP:20260423T041945
CREATED:20240909T210446Z
LAST-MODIFIED:20240909T210654Z
UID:1442-1729188000-1729195200@whanganuimountainbikeclub.co.nz
SUMMARY:Thursday 6pm Club ride meet Araheke MTB Park (Lake Wiritoa car park) October 17 @ 6:00 pm - 8:00 pm
DESCRIPTION:Thursday 6pm Club ride meet Araheke MTB Park (Lake Wiritoa car park)\nOctober 17 @ 6:00 pm – 8:00 pm \nMeet Araheke MTB Park (Lake Wiritoa car park). 1.5-2hr ride. Bring own refreshment for a convivial chat afterwards if interested.
URL:https://whanganuimountainbikeclub.co.nz/event/thursday-6pm-club-ride-meet-araheke-mtb-park-lake-wiritoa-car-park-october-17-600-pm-800-pm-meet-araheke-mtb-park-lake-wiritoa-car-park-1-5-2hr-ride-bring-own-refreshment-for-a-convivial/
LOCATION:Araheke MTB Park\, Whanganui\, Araheke MTB Park\, Whanganui\, New Zealand
CATEGORIES:Thursday club ride
ORGANIZER;CN="Whanganui MTB club":MAILTO:whanganuimtbc@gmail.com
END:VEVENT
BEGIN:VEVENT
DTSTART;TZID=Pacific/Auckland:20241010T180000
DTEND;TZID=Pacific/Auckland:20241010T200000
DTSTAMP:20260423T041945
CREATED:20240909T211038Z
LAST-MODIFIED:20240909T211039Z
UID:1448-1728583200-1728590400@whanganuimountainbikeclub.co.nz
SUMMARY:Thursday club ride - Hyltons Pit meet @6pm
DESCRIPTION:Meet Hyltons Pit @ 6-8pm with a convivial drink afterwards at Carolines for those that are interested
URL:https://whanganuimountainbikeclub.co.nz/event/thursday-club-ride-hyltons-pit-meet-6pm/
LOCATION:Hyltons Pit\, 56 Brunswick Rd\,\, Whanganui\, 4571\, New Zealand
CATEGORIES:Thursday club ride
ORGANIZER;CN="Whanganui MTB club":MAILTO:whanganuimtbc@gmail.com
END:VEVENT
BEGIN:VEVENT
DTSTART;TZID=Pacific/Auckland:20241003T180000
DTEND;TZID=Pacific/Auckland:20241003T200000
DTSTAMP:20260423T041945
CREATED:20240909T210152Z
LAST-MODIFIED:20240909T210303Z
UID:1440-1727978400-1727985600@whanganuimountainbikeclub.co.nz
SUMMARY:Thursday 6pm Club ride meet Araheke MTB Park (Lake Wiritoa car park) October 3 @ 6:00 pm - 8:00 pm
DESCRIPTION:Thursday 6pm Club ride meet Araheke MTB Park (Lake Wiritoa car park)\nOctober 3 @ 6:00 pm – 8:00 pm \nMeet Araheke MTB Park (Lake Wiritoa car park). 1.5-2hr ride. Bring own refreshment for a convivial chat afterwards if interested.
URL:https://whanganuimountainbikeclub.co.nz/event/thursday-6pm-club-ride-meet-araheke-mtb-park-lake-wiritoa-car-park-october-3-600-pm-800-pm/
LOCATION:Araheke MTB Park\, Whanganui\, Araheke MTB Park\, Whanganui\, New Zealand
CATEGORIES:Thursday club ride
ORGANIZER;CN="Whanganui MTB club":MAILTO:whanganuimtbc@gmail.com
END:VEVENT
BEGIN:VEVENT
DTSTART;TZID=Pacific/Auckland:20240926T180000
DTEND;TZID=Pacific/Auckland:20240926T200000
DTSTAMP:20260423T041945
CREATED:20240728T210208Z
LAST-MODIFIED:20240909T205444Z
UID:1395-1727373600-1727380800@whanganuimountainbikeclub.co.nz
SUMMARY:Thursday 6pm urban club ride meet iSite September 26 @ 6:00 pm - 8:00 pm
DESCRIPTION:Thursday 6pm urban club ride meet iSite\nSeptember 26 @ 6:00 pm – 8:00 pm \nMeet iSite. 1.5-2hr ride followed by local refreshment if interested.
URL:https://whanganuimountainbikeclub.co.nz/event/thursday-6pm-urban-club-ride-meet-isite-august-29-600-pm-800-pm-2/
LOCATION:iSite\, 31 Taupo Quay\, Whanganui\, 31 Taupo Quay\, Whanganui\, 4500\, New Zealand
CATEGORIES:Thursday club ride
ORGANIZER;CN="Whanganui MTB club":MAILTO:whanganuimtbc@gmail.com
END:VEVENT
BEGIN:VEVENT
DTSTART;TZID=Pacific/Auckland:20240919T180000
DTEND;TZID=Pacific/Auckland:20240919T203000
DTSTAMP:20260423T041945
CREATED:20240728T210807Z
LAST-MODIFIED:20240728T210852Z
UID:1401-1726768800-1726777800@whanganuimountainbikeclub.co.nz
SUMMARY:Thursday 6pm Club ride meet Araheke MTB Park (Lake Wiritoa car park)
DESCRIPTION:Meet Araheke MTB Park (Lake Wiritoa car park). 1.5-2hr ride. Bring own refreshment for a convivial chat afterwards if interested.
URL:https://whanganuimountainbikeclub.co.nz/event/thursday-6pm-club-ride-meet-araheke-mtb-park-lake-wiritoa-car-park-6/
LOCATION:Araheke MTB Park\, Whanganui\, Araheke MTB Park\, Whanganui\, New Zealand
CATEGORIES:Thursday club ride
ORGANIZER;CN="Whanganui MTB club":MAILTO:whanganuimtbc@gmail.com
END:VEVENT
BEGIN:VEVENT
DTSTART;TZID=Pacific/Auckland:20240912T180000
DTEND;TZID=Pacific/Auckland:20240912T200000
DTSTAMP:20260423T041945
CREATED:20240728T205922Z
LAST-MODIFIED:20240909T205551Z
UID:1393-1726164000-1726171200@whanganuimountainbikeclub.co.nz
SUMMARY:Thursday 6pm urban club ride meet iSite September 12 @ 6:00 pm - 8:00 pm
DESCRIPTION:Thursday 6pm urban club ride meet iSite\nSeptember 12 @ 6:00 pm – 8:00 pm \nMeet iSite. 1.5-2hr ride followed by local refreshment if interested.
URL:https://whanganuimountainbikeclub.co.nz/event/thursday-6pm-urban-club-ride-meet-isite-august-29-600-pm-800-pm/
LOCATION:iSite\, 31 Taupo Quay\, Whanganui\, 31 Taupo Quay\, Whanganui\, 4500\, New Zealand
CATEGORIES:Thursday club ride
ORGANIZER;CN="Whanganui MTB club":MAILTO:whanganuimtbc@gmail.com
END:VEVENT
BEGIN:VEVENT
DTSTART;TZID=Pacific/Auckland:20240905T180000
DTEND;TZID=Pacific/Auckland:20240905T203000
DTSTAMP:20260423T041945
CREATED:20240728T210708Z
LAST-MODIFIED:20240728T211146Z
UID:1399-1725559200-1725568200@whanganuimountainbikeclub.co.nz
SUMMARY:Thursday 6pm Club ride meet Araheke MTB Park (Lake Wiritoa car park)
DESCRIPTION:Meet Araheke MTB Park (Lake Wiritoa car park). 1.5-2hr ride. Bring own refreshment for a convivial chat afterwards if interested.
URL:https://whanganuimountainbikeclub.co.nz/event/thursday-6pm-club-ride-meet-araheke-mtb-park-lake-wiritoa-car-park-5/
LOCATION:Araheke MTB Park\, Whanganui\, Araheke MTB Park\, Whanganui\, New Zealand
CATEGORIES:Thursday club ride
ORGANIZER;CN="Whanganui MTB club":MAILTO:whanganuimtbc@gmail.com
END:VEVENT
BEGIN:VEVENT
DTSTART;TZID=Pacific/Auckland:20240829T180000
DTEND;TZID=Pacific/Auckland:20240829T200000
DTSTAMP:20260423T041945
CREATED:20240610T052710Z
LAST-MODIFIED:20240617T060131Z
UID:1291-1724954400-1724961600@whanganuimountainbikeclub.co.nz
SUMMARY:Thursday 6pm urban club ride meet iSite
DESCRIPTION:Meet iSite. 1.5-2hr ride followed by local refreshment if interested.
URL:https://whanganuimountainbikeclub.co.nz/event/thursday-6pm-urban-club-ride-meet-isite-2/
LOCATION:iSite\, 31 Taupo Quay\, Whanganui\, 31 Taupo Quay\, Whanganui\, 4500\, New Zealand
CATEGORIES:Thursday club ride
ORGANIZER;CN="Whanganui MTB club":MAILTO:whanganuimtbc@gmail.com
END:VEVENT
BEGIN:VEVENT
DTSTART;TZID=Pacific/Auckland:20240822T180000
DTEND;TZID=Pacific/Auckland:20240822T200000
DTSTAMP:20260423T041945
CREATED:20240610T052308Z
LAST-MODIFIED:20240617T054947Z
UID:1282-1724349600-1724356800@whanganuimountainbikeclub.co.nz
SUMMARY:Thursday 6pm Club ride meet Araheke MTB Park (Lake Wiritoa car park)
DESCRIPTION:Meet Araheke MTB Park (Lake Wiritoa car park). 1.5-2hr ride. Bring own refreshment for a convivial chat afterwards if interested.
URL:https://whanganuimountainbikeclub.co.nz/event/thursday-6pm-club-ride-meet-araheke-mtb-park-lake-wiritoa-car-park-4/
LOCATION:Araheke MTB Park\, Whanganui\, Araheke MTB Park\, Whanganui\, New Zealand
CATEGORIES:Thursday club ride
ORGANIZER;CN="Whanganui MTB club":MAILTO:whanganuimtbc@gmail.com
END:VEVENT
BEGIN:VEVENT
DTSTART;TZID=Pacific/Auckland:20240815T180000
DTEND;TZID=Pacific/Auckland:20240815T200000
DTSTAMP:20260423T041945
CREATED:20240610T052613Z
LAST-MODIFIED:20240617T060239Z
UID:1286-1723744800-1723752000@whanganuimountainbikeclub.co.nz
SUMMARY:Thursday 6pm urban club ride meet iSite
DESCRIPTION:Meet iSite. 1.5-2hr ride followed by local refreshment if interested.
URL:https://whanganuimountainbikeclub.co.nz/event/thursday-6pm-urban-club-ride-meet-isite/
LOCATION:iSite\, 31 Taupo Quay\, Whanganui\, 31 Taupo Quay\, Whanganui\, 4500\, New Zealand
CATEGORIES:Thursday club ride
ORGANIZER;CN="Whanganui MTB club":MAILTO:whanganuimtbc@gmail.com
END:VEVENT
BEGIN:VEVENT
DTSTART;TZID=Pacific/Auckland:20240808T180000
DTEND;TZID=Pacific/Auckland:20240808T200000
DTSTAMP:20260423T041945
CREATED:20240610T052220Z
LAST-MODIFIED:20240617T060802Z
UID:1280-1723140000-1723147200@whanganuimountainbikeclub.co.nz
SUMMARY:Thursday 6pm Club ride meet Araheke MTB Park (Lake Wiritoa car park)
DESCRIPTION:Meet Araheke MTB Park (Lake Wiritoa car park). 1.5-2hr ride. Bring own refreshment for a convivial chat afterwards if interested.
URL:https://whanganuimountainbikeclub.co.nz/event/thursday-6pm-club-ride-meet-araheke-mtb-park-lake-wiritoa-car-park-3/
LOCATION:Araheke MTB Park\, Whanganui\, Araheke MTB Park\, Whanganui\, New Zealand
CATEGORIES:Thursday club ride
ORGANIZER;CN="Whanganui MTB club":MAILTO:whanganuimtbc@gmail.com
END:VEVENT
BEGIN:VEVENT
DTSTART;TZID=Pacific/Auckland:20240801T180000
DTEND;TZID=Pacific/Auckland:20240801T200000
DTSTAMP:20260423T041945
CREATED:20240610T020737Z
LAST-MODIFIED:20240617T060341Z
UID:1239-1722535200-1722542400@whanganuimountainbikeclub.co.nz
SUMMARY:Thursday 6pm urban club ride meet iSite
DESCRIPTION:Meet iSite. 1.5-2hr ride followed by local refreshment if interested.
URL:https://whanganuimountainbikeclub.co.nz/event/thursday-6pm-club-ride-meet-isite-2/
LOCATION:iSite\, 31 Taupo Quay\, Whanganui\, 31 Taupo Quay\, Whanganui\, 4500\, New Zealand
CATEGORIES:Thursday club ride
ORGANIZER;CN="Whanganui MTB club":MAILTO:whanganuimtbc@gmail.com
END:VEVENT
BEGIN:VEVENT
DTSTART;TZID=Pacific/Auckland:20240725T180000
DTEND;TZID=Pacific/Auckland:20240725T200000
DTSTAMP:20260423T041945
CREATED:20240610T023855Z
LAST-MODIFIED:20240617T055350Z
UID:1260-1721930400-1721937600@whanganuimountainbikeclub.co.nz
SUMMARY:Thursday 6pm Club ride meet Araheke MTB Park (Lake Wiritoa car park)
DESCRIPTION:Meet Araheke MTB Park (Lake Wiritoa car park). 1.5-2hr ride. Bring own refreshment for a convivial chat afterwards if interested.
URL:https://whanganuimountainbikeclub.co.nz/event/thursday-6pm-club-ride-meet-araheke-mtb-park-lake-wiritoa-car-park-2/
LOCATION:Araheke MTB Park\, Whanganui\, Araheke MTB Park\, Whanganui\, New Zealand
CATEGORIES:Thursday club ride
ORGANIZER;CN="Whanganui MTB club":MAILTO:whanganuimtbc@gmail.com
END:VEVENT
BEGIN:VEVENT
DTSTART;TZID=Pacific/Auckland:20240718T180000
DTEND;TZID=Pacific/Auckland:20240718T200000
DTSTAMP:20260423T041945
CREATED:20240610T020619Z
LAST-MODIFIED:20240617T060413Z
UID:1237-1721325600-1721332800@whanganuimountainbikeclub.co.nz
SUMMARY:Thursday 6pm urban club ride meet iSite
DESCRIPTION:Meet iSite. 1.5-2hr ride followed by local refreshment if interested.
URL:https://whanganuimountainbikeclub.co.nz/event/thursday-6pm-club-ride-meet-isite/
LOCATION:iSite\, 31 Taupo Quay\, Whanganui\, 31 Taupo Quay\, Whanganui\, 4500\, New Zealand
CATEGORIES:Thursday club ride
ORGANIZER;CN="Whanganui MTB club":MAILTO:whanganuimtbc@gmail.com
END:VEVENT
BEGIN:VEVENT
DTSTART;TZID=Pacific/Auckland:20240711T180000
DTEND;TZID=Pacific/Auckland:20240711T200000
DTSTAMP:20260423T041945
CREATED:20240610T023000Z
LAST-MODIFIED:20240617T055426Z
UID:1253-1720720800-1720728000@whanganuimountainbikeclub.co.nz
SUMMARY:Thursday 6pm Club ride meet Araheke MTB Park (Lake Wiritoa car park)
DESCRIPTION:Meet Araheke MTB Park (Lake Wiritoa car park). 1.5-2hr ride. Bring own refreshment for a convivial chat afterwards if interested.
URL:https://whanganuimountainbikeclub.co.nz/event/thursday-6pm-club-ride-meet-araheke-mtb-park-lake-wiritoa-car-park/
LOCATION:Araheke MTB Park\, Whanganui\, Araheke MTB Park\, Whanganui\, New Zealand
CATEGORIES:Thursday club ride
ORGANIZER;CN="Whanganui MTB club":MAILTO:whanganuimtbc@gmail.com
END:VEVENT
BEGIN:VEVENT
DTSTART;TZID=Pacific/Auckland:20240704T180000
DTEND;TZID=Pacific/Auckland:20240704T200000
DTSTAMP:20260423T041945
CREATED:20240610T020208Z
LAST-MODIFIED:20240617T060442Z
UID:1233-1720116000-1720123200@whanganuimountainbikeclub.co.nz
SUMMARY:Thursday 6pm urban club ride meet iSite
DESCRIPTION:Meet iSite. 1.5-2hr ride followed by local refreshment if interested.
URL:https://whanganuimountainbikeclub.co.nz/event/thursday-6pm-club-ride-2/
LOCATION:iSite\, 31 Taupo Quay\, Whanganui\, 31 Taupo Quay\, Whanganui\, 4500\, New Zealand
CATEGORIES:Thursday club ride
ORGANIZER;CN="Whanganui MTB club":MAILTO:whanganuimtbc@gmail.com
END:VEVENT
BEGIN:VEVENT
DTSTART;TZID=Pacific/Auckland:20240627T180000
DTEND;TZID=Pacific/Auckland:20240627T200000
DTSTAMP:20260423T041945
CREATED:20240610T021657Z
LAST-MODIFIED:20240617T055524Z
UID:1244-1719511200-1719518400@whanganuimountainbikeclub.co.nz
SUMMARY:Thursday 6pm club ride meet Araheke MTB Park (Lake Wiritoa car park)
DESCRIPTION:Meet Araheke MTB Park (Lake Wiritoa car park). 1.5-2hr ride. Bring own refreshment for a convivial chat afterwards if interested.
URL:https://whanganuimountainbikeclub.co.nz/event/thursday-6pm-club-ride-meet-lake-wiritoa-car-park-2/
LOCATION:Araheke MTB Park\, Whanganui\, Araheke MTB Park\, Whanganui\, New Zealand
CATEGORIES:Thursday club ride
ORGANIZER;CN="Whanganui MTB club":MAILTO:whanganuimtbc@gmail.com
END:VEVENT
BEGIN:VEVENT
DTSTART;TZID=Pacific/Auckland:20240620T180000
DTEND;TZID=Pacific/Auckland:20240620T200000
DTSTAMP:20260423T041945
CREATED:20240610T015750Z
LAST-MODIFIED:20240617T060630Z
UID:1228-1718906400-1718913600@whanganuimountainbikeclub.co.nz
SUMMARY:Thursday 6pm urban club ride meet iSite
DESCRIPTION:Meet iSite. 1.5-2hr ride followed by local refreshment if interested.
URL:https://whanganuimountainbikeclub.co.nz/event/thursday-6pm-club-ride/
LOCATION:iSite\, 31 Taupo Quay\, Whanganui\, 31 Taupo Quay\, Whanganui\, 4500\, New Zealand
CATEGORIES:Thursday club ride
ORGANIZER;CN="Whanganui MTB club":MAILTO:whanganuimtbc@gmail.com
END:VEVENT
BEGIN:VEVENT
DTSTART;TZID=Pacific/Auckland:20240613T180000
DTEND;TZID=Pacific/Auckland:20240613T200000
DTSTAMP:20260423T041945
CREATED:20240610T021314Z
LAST-MODIFIED:20240610T043615Z
UID:1241-1718301600-1718308800@whanganuimountainbikeclub.co.nz
SUMMARY:Thursday 6pm club ride meet Araheke MTB Park (Lake Wiritoa car park)
DESCRIPTION:Meet Araheke MTB Park (Lake Wiritoa car park). 1.5-2hr ride. Bring own refreshment for a convivial chat afterwards if interested.
URL:https://whanganuimountainbikeclub.co.nz/event/thursday-6pm-club-ride-meet-lake-wiritoa-car-park/
LOCATION:Araheke MTB Park\, Whanganui\, Araheke MTB Park\, Whanganui\, New Zealand
CATEGORIES:Thursday club ride
ORGANIZER;CN="Whanganui MTB club":MAILTO:whanganuimtbc@gmail.com
END:VEVENT
END:VCALENDAR