BEGIN:VCALENDAR
VERSION:2.0
PRODID:-//Whanganui Mountain Bike Club - ECPv6.15.20//NONSGML v1.0//EN
CALSCALE:GREGORIAN
METHOD:PUBLISH
X-WR-CALNAME:Whanganui Mountain Bike Club
X-ORIGINAL-URL:https://whanganuimountainbikeclub.co.nz
X-WR-CALDESC:Events for Whanganui Mountain Bike Club
REFRESH-INTERVAL;VALUE=DURATION:PT1H
X-Robots-Tag:noindex
X-PUBLISHED-TTL:PT1H
BEGIN:VTIMEZONE
TZID:Pacific/Auckland
BEGIN:STANDARD
TZOFFSETFROM:+1300
TZOFFSETTO:+1200
TZNAME:NZST
DTSTART:20230401T140000
END:STANDARD
BEGIN:DAYLIGHT
TZOFFSETFROM:+1200
TZOFFSETTO:+1300
TZNAME:NZDT
DTSTART:20230923T140000
END:DAYLIGHT
BEGIN:STANDARD
TZOFFSETFROM:+1300
TZOFFSETTO:+1200
TZNAME:NZST
DTSTART:20240406T140000
END:STANDARD
BEGIN:DAYLIGHT
TZOFFSETFROM:+1200
TZOFFSETTO:+1300
TZNAME:NZDT
DTSTART:20240928T140000
END:DAYLIGHT
BEGIN:STANDARD
TZOFFSETFROM:+1300
TZOFFSETTO:+1200
TZNAME:NZST
DTSTART:20250405T140000
END:STANDARD
BEGIN:DAYLIGHT
TZOFFSETFROM:+1200
TZOFFSETTO:+1300
TZNAME:NZDT
DTSTART:20250927T140000
END:DAYLIGHT
END:VTIMEZONE
BEGIN:VEVENT
DTSTART;TZID=Pacific/Auckland:20240723T190000
DTEND;TZID=Pacific/Auckland:20240723T193000
DTSTAMP:20260423T150039
CREATED:20240702T022925Z
LAST-MODIFIED:20240702T023204Z
UID:1344-1721761200-1721763000@whanganuimountainbikeclub.co.nz
SUMMARY:Special General Meeting to discuss and amend the Constitution to comply with The Incorporated Societies Act 2022 at 7pm 0n Tuesday 23 July 2024
DESCRIPTION:Agenda: \n    Welcome and brief discussion\n    Motion A: That the club agrees to re-register – Moved Frank Rawlinson Seconded Ken Pawson\n    Motion B: That the club approve the draft changes to its constitution as attached – Moved Frank Rawlinson Seconded Ken Pawson\n    Thank you from the chair\n    Meeting end
URL:https://whanganuimountainbikeclub.co.nz/event/special-general-meeting-to-discuss-and-amend-the-constitution-to-comply-with-the-incorporated-societies-act-2022-at-7pm-0n-tuesday-23-july-2024/
LOCATION:379 Wicksteed st\, Whanganui\, 379 Wicksteed st\, Whanganui\, New Zealand
CATEGORIES:Special General Meeting
ORGANIZER;CN="Whanganui MTB club":MAILTO:whanganuimtbc@gmail.com
END:VEVENT
END:VCALENDAR