BEGIN:VCALENDAR
VERSION:2.0
PRODID:-//Whanganui Mountain Bike Club - ECPv6.15.20//NONSGML v1.0//EN
CALSCALE:GREGORIAN
METHOD:PUBLISH
X-WR-CALNAME:Whanganui Mountain Bike Club
X-ORIGINAL-URL:https://whanganuimountainbikeclub.co.nz
X-WR-CALDESC:Events for Whanganui Mountain Bike Club
REFRESH-INTERVAL;VALUE=DURATION:PT1H
X-Robots-Tag:noindex
X-PUBLISHED-TTL:PT1H
BEGIN:VTIMEZONE
TZID:Pacific/Auckland
BEGIN:STANDARD
TZOFFSETFROM:+1300
TZOFFSETTO:+1200
TZNAME:NZST
DTSTART:20240406T140000
END:STANDARD
BEGIN:DAYLIGHT
TZOFFSETFROM:+1200
TZOFFSETTO:+1300
TZNAME:NZDT
DTSTART:20240928T140000
END:DAYLIGHT
BEGIN:STANDARD
TZOFFSETFROM:+1300
TZOFFSETTO:+1200
TZNAME:NZST
DTSTART:20250405T140000
END:STANDARD
BEGIN:DAYLIGHT
TZOFFSETFROM:+1200
TZOFFSETTO:+1300
TZNAME:NZDT
DTSTART:20250927T140000
END:DAYLIGHT
BEGIN:STANDARD
TZOFFSETFROM:+1300
TZOFFSETTO:+1200
TZNAME:NZST
DTSTART:20260404T140000
END:STANDARD
BEGIN:DAYLIGHT
TZOFFSETFROM:+1200
TZOFFSETTO:+1300
TZNAME:NZDT
DTSTART:20260926T140000
END:DAYLIGHT
END:VTIMEZONE
BEGIN:VEVENT
DTSTART;TZID=Pacific/Auckland:20251218T180000
DTEND;TZID=Pacific/Auckland:20251218T193000
DTSTAMP:20260423T000840
CREATED:20251123T035922Z
LAST-MODIFIED:20251123T035922Z
UID:1738-1766080800-1766086200@whanganuimountainbikeclub.co.nz
SUMMARY:Thursday evening Club ride – Hylton’s Pit
DESCRIPTION:The club holds weekly rides at 6pm on Thursday evenings. A monthly email is sent out advising venues for the month. Summer riding takes place at Hyltons Pit\, meeting at the main entrance on Brunswick Rd. The rides are usually between 1.5 – 2hrs\, followed by a convivial drink.
URL:https://whanganuimountainbikeclub.co.nz/event/thursday-evening-club-ride-hyltons-pit-7/
LOCATION:Hyltons Pit\, 56 Brunswick Rd\,\, Whanganui\, 4571\, New Zealand
CATEGORIES:Thursday club ride
ATTACH;FMTTYPE=image/png:https://whanganuimountainbikeclub.co.nz/wp-content/uploads/2020/07/logo2.png
ORGANIZER;CN="Whanganui MTB club":MAILTO:whanganuimtbc@gmail.com
END:VEVENT
BEGIN:VEVENT
DTSTART;TZID=Pacific/Auckland:20251218T180000
DTEND;TZID=Pacific/Auckland:20251218T200000
DTSTAMP:20260423T000840
CREATED:20251125T052510Z
LAST-MODIFIED:20251125T052933Z
UID:1740-1766080800-1766088000@whanganuimountainbikeclub.co.nz
SUMMARY:Specialized bikes demo days Thursday 18 December and Sunday 21st December at Hylton's Pit
DESCRIPTION:Book your bike by copying and pasting this link\nhttps://www.eventbrite.co.nz/e/specialized-trail-days-whanganui-hilton-park-tickets-1975036726014?aff=oddtdtcreator
URL:https://whanganuimountainbikeclub.co.nz/event/specialized-bikes-demo-days-thursday-18-december-and-sunday-21st-december-at-hyltons-pit/
LOCATION:Hyltons Pit\, 56 Brunswick Rd\,\, Whanganui\, 4571\, New Zealand
CATEGORIES:Demo day
ATTACH;FMTTYPE=image/jpeg:https://whanganuimountainbikeclub.co.nz/wp-content/uploads/2025/11/Trail_Days_Socials_Whanganui-Bike-Shed-Image-UpdateTrail-Days-Schedule-Thurs-18.jpg
END:VEVENT
END:VCALENDAR