BEGIN:VCALENDAR
VERSION:2.0
PRODID:-//Whanganui Mountain Bike Club - ECPv6.15.20//NONSGML v1.0//EN
CALSCALE:GREGORIAN
METHOD:PUBLISH
X-WR-CALNAME:Whanganui Mountain Bike Club
X-ORIGINAL-URL:https://whanganuimountainbikeclub.co.nz
X-WR-CALDESC:Events for Whanganui Mountain Bike Club
REFRESH-INTERVAL;VALUE=DURATION:PT1H
X-Robots-Tag:noindex
X-PUBLISHED-TTL:PT1H
BEGIN:VTIMEZONE
TZID:Pacific/Auckland
BEGIN:STANDARD
TZOFFSETFROM:+1300
TZOFFSETTO:+1200
TZNAME:NZST
DTSTART:20240406T140000
END:STANDARD
BEGIN:DAYLIGHT
TZOFFSETFROM:+1200
TZOFFSETTO:+1300
TZNAME:NZDT
DTSTART:20240928T140000
END:DAYLIGHT
BEGIN:STANDARD
TZOFFSETFROM:+1300
TZOFFSETTO:+1200
TZNAME:NZST
DTSTART:20250405T140000
END:STANDARD
BEGIN:DAYLIGHT
TZOFFSETFROM:+1200
TZOFFSETTO:+1300
TZNAME:NZDT
DTSTART:20250927T140000
END:DAYLIGHT
BEGIN:STANDARD
TZOFFSETFROM:+1300
TZOFFSETTO:+1200
TZNAME:NZST
DTSTART:20260404T140000
END:STANDARD
BEGIN:DAYLIGHT
TZOFFSETFROM:+1200
TZOFFSETTO:+1300
TZNAME:NZDT
DTSTART:20260926T140000
END:DAYLIGHT
END:VTIMEZONE
BEGIN:VEVENT
DTSTART;TZID=Pacific/Auckland:20251207T080000
DTEND;TZID=Pacific/Auckland:20251207T140000
DTSTAMP:20260423T003244
CREATED:20251104T205621Z
LAST-MODIFIED:20251120T191312Z
UID:1712-1765094400-1765116000@whanganuimountainbikeclub.co.nz
SUMMARY:Inaugural 75km Whanganui Pave and Gravel ride - Sunday 7 December 2025
DESCRIPTION:Date:\nSunday 7th December 2025 \nCourse Details:\nApprox 75km & 1340m elevation\nApprox 70% unpaved roads\nStrava Route – https://www.strava.com/routes/3418854502776179928 \nStart Groups:\nSocial Riders – 8am start (expected to take up to 5 1/2 hours)\nE-Bikes – 9am start (you can ride with the social riders if desired)\nExperienced Riders – 10am Start (up to 3 1/2 hours) \nOnline Registration Entry Fees:\nAll grades – $40
URL:https://whanganuimountainbikeclub.co.nz/event/inaugural-75km-whanganui-pave-and-gravel-ride-sunday-7-december-2025/
CATEGORIES:Pave & Gravel
ATTACH;FMTTYPE=image/png:https://whanganuimountainbikeclub.co.nz/wp-content/uploads/2020/07/logo2.png
END:VEVENT
END:VCALENDAR