BEGIN:VCALENDAR
VERSION:2.0
PRODID:-//Whanganui Mountain Bike Club - ECPv6.15.20//NONSGML v1.0//EN
CALSCALE:GREGORIAN
METHOD:PUBLISH
X-WR-CALNAME:Whanganui Mountain Bike Club
X-ORIGINAL-URL:https://whanganuimountainbikeclub.co.nz
X-WR-CALDESC:Events for Whanganui Mountain Bike Club
REFRESH-INTERVAL;VALUE=DURATION:PT1H
X-Robots-Tag:noindex
X-PUBLISHED-TTL:PT1H
BEGIN:VTIMEZONE
TZID:Pacific/Auckland
BEGIN:STANDARD
TZOFFSETFROM:+1300
TZOFFSETTO:+1200
TZNAME:NZST
DTSTART:20240406T140000
END:STANDARD
BEGIN:DAYLIGHT
TZOFFSETFROM:+1200
TZOFFSETTO:+1300
TZNAME:NZDT
DTSTART:20240928T140000
END:DAYLIGHT
BEGIN:STANDARD
TZOFFSETFROM:+1300
TZOFFSETTO:+1200
TZNAME:NZST
DTSTART:20250405T140000
END:STANDARD
BEGIN:DAYLIGHT
TZOFFSETFROM:+1200
TZOFFSETTO:+1300
TZNAME:NZDT
DTSTART:20250927T140000
END:DAYLIGHT
BEGIN:STANDARD
TZOFFSETFROM:+1300
TZOFFSETTO:+1200
TZNAME:NZST
DTSTART:20260404T140000
END:STANDARD
BEGIN:DAYLIGHT
TZOFFSETFROM:+1200
TZOFFSETTO:+1300
TZNAME:NZDT
DTSTART:20260926T140000
END:DAYLIGHT
END:VTIMEZONE
BEGIN:VEVENT
DTSTART;TZID=Pacific/Auckland:20251102T093000
DTEND;TZID=Pacific/Auckland:20251102T120000
DTSTAMP:20260423T014818
CREATED:20251031T044437Z
LAST-MODIFIED:20251031T044438Z
UID:1696-1762075800-1762084800@whanganuimountainbikeclub.co.nz
SUMMARY:Sunday club ride - Lismore Forest roads - 9.30am
DESCRIPTION:This Sunday 2 November is open for members to ride at any time on the gravel roads within Lismore forest. \nMembers are welcome to join an ebike morning circuitous ride.  We will be mainly sticking to the main gravel roads\, starting and ending on SH4. Fit riders on analogues are also welcome.  A separate group could be made if there are enough riders. \nMeet – Corner SH4 and Old Parapara Rd (past the white bridge) on Sunday 2 November at 9.30am. Big hills\, moderately steep in sections. \nMost of the extensive forest road system in Lismore is great for exploring.  Forest360 is keen that we utilize the forest roads and tracks more fully for recreational purposes. An ideal area for fit riders\, gravel and ebikes. \nWe encourage members to fill in the online induction form for Forest 360. This will only need to be done once per person and not every time you enter the forest. \nhttps://forest360.tickbox.nz/register \nPlease note: The mt bike DH area is open every weekend and evenings during the week for riding.  Tracks are extremely slippery after rain.
URL:https://whanganuimountainbikeclub.co.nz/event/sunday-club-ride-lismore-forest-roads-9-30am/
LOCATION:Old Parapara Rd\, Whanganui\, -39.83179785210985\, 175.1671180173915
CATEGORIES:Sunday rides
ATTACH;FMTTYPE=image/png:https://whanganuimountainbikeclub.co.nz/wp-content/uploads/2020/07/logo2.png
ORGANIZER;CN="Whanganui MTB club":MAILTO:whanganuimtbc@gmail.com
END:VEVENT
END:VCALENDAR