BEGIN:VCALENDAR
VERSION:2.0
PRODID:-//Whanganui Mountain Bike Club - ECPv6.15.20//NONSGML v1.0//EN
CALSCALE:GREGORIAN
METHOD:PUBLISH
X-ORIGINAL-URL:https://whanganuimountainbikeclub.co.nz
X-WR-CALDESC:Events for Whanganui Mountain Bike Club
REFRESH-INTERVAL;VALUE=DURATION:PT1H
X-Robots-Tag:noindex
X-PUBLISHED-TTL:PT1H
BEGIN:VTIMEZONE
TZID:Pacific/Auckland
BEGIN:STANDARD
TZOFFSETFROM:+1300
TZOFFSETTO:+1200
TZNAME:NZST
DTSTART:20240406T140000
END:STANDARD
BEGIN:DAYLIGHT
TZOFFSETFROM:+1200
TZOFFSETTO:+1300
TZNAME:NZDT
DTSTART:20240928T140000
END:DAYLIGHT
BEGIN:STANDARD
TZOFFSETFROM:+1300
TZOFFSETTO:+1200
TZNAME:NZST
DTSTART:20250405T140000
END:STANDARD
BEGIN:DAYLIGHT
TZOFFSETFROM:+1200
TZOFFSETTO:+1300
TZNAME:NZDT
DTSTART:20250927T140000
END:DAYLIGHT
BEGIN:STANDARD
TZOFFSETFROM:+1300
TZOFFSETTO:+1200
TZNAME:NZST
DTSTART:20260404T140000
END:STANDARD
BEGIN:DAYLIGHT
TZOFFSETFROM:+1200
TZOFFSETTO:+1300
TZNAME:NZDT
DTSTART:20260926T140000
END:DAYLIGHT
END:VTIMEZONE
BEGIN:VEVENT
DTSTART;TZID=Pacific/Auckland:20250803T093000
DTEND;TZID=Pacific/Auckland:20250803T133000
DTSTAMP:20260423T071945
CREATED:20250731T052706Z
LAST-MODIFIED:20250731T052706Z
UID:1662-1754213400-1754227800@whanganuimountainbikeclub.co.nz
SUMMARY:Sunday Club Ride - Lismore Forest/Makirikiri Valley Rd - 9.30am
DESCRIPTION:A bit of a change for the Lismore Forest club’s open road day (first Sunday of the month).  Join us on a circuit starting at Upokongaro\, cycle up to Lismore Forest on SH3\, then on the forest roads to end up on Mangawhero Rd\, up a private forest road to Ken Pawson’s hunting bach and then out via a farm to end up on Makirikiri Valley Rd and back to Upok for a cuppa. \nMeet – Cafe at Upokongaro this Sunday 3 August at 9.30am.\nModerate hills.  42km.  Suitable for ebikes and fit analogue riders.  About 4 hours with stops.
URL:https://whanganuimountainbikeclub.co.nz/event/sunday-club-ride-lismore-forest-makirikiri-valley-rd-9-30am/
LOCATION:Upokongaro cafe\, SH4\, 444 State Highway 4\, Upokongaro\, Whanganui\, 4575
CATEGORIES:Sunday rides
ATTACH;FMTTYPE=image/jpeg:https://whanganuimountainbikeclub.co.nz/wp-content/uploads/2025/07/image03.jpeg
ORGANIZER;CN="Whanganui MTB club":MAILTO:whanganuimtbc@gmail.com
END:VEVENT
END:VCALENDAR