BEGIN:VCALENDAR
VERSION:2.0
PRODID:-//Whanganui Mountain Bike Club - ECPv6.15.20//NONSGML v1.0//EN
CALSCALE:GREGORIAN
METHOD:PUBLISH
X-WR-CALNAME:Whanganui Mountain Bike Club
X-ORIGINAL-URL:https://whanganuimountainbikeclub.co.nz
X-WR-CALDESC:Events for Whanganui Mountain Bike Club
REFRESH-INTERVAL;VALUE=DURATION:PT1H
X-Robots-Tag:noindex
X-PUBLISHED-TTL:PT1H
BEGIN:VTIMEZONE
TZID:Pacific/Auckland
BEGIN:STANDARD
TZOFFSETFROM:+1300
TZOFFSETTO:+1200
TZNAME:NZST
DTSTART:20230401T140000
END:STANDARD
BEGIN:DAYLIGHT
TZOFFSETFROM:+1200
TZOFFSETTO:+1300
TZNAME:NZDT
DTSTART:20230923T140000
END:DAYLIGHT
BEGIN:STANDARD
TZOFFSETFROM:+1300
TZOFFSETTO:+1200
TZNAME:NZST
DTSTART:20240406T140000
END:STANDARD
BEGIN:DAYLIGHT
TZOFFSETFROM:+1200
TZOFFSETTO:+1300
TZNAME:NZDT
DTSTART:20240928T140000
END:DAYLIGHT
BEGIN:STANDARD
TZOFFSETFROM:+1300
TZOFFSETTO:+1200
TZNAME:NZST
DTSTART:20250405T140000
END:STANDARD
BEGIN:DAYLIGHT
TZOFFSETFROM:+1200
TZOFFSETTO:+1300
TZNAME:NZDT
DTSTART:20250927T140000
END:DAYLIGHT
END:VTIMEZONE
BEGIN:VEVENT
DTSTART;TZID=Pacific/Auckland:20240929T100000
DTEND;TZID=Pacific/Auckland:20240929T123000
DTSTAMP:20260424T004253
CREATED:20240926T230058Z
LAST-MODIFIED:20240926T230151Z
UID:1458-1727604000-1727613000@whanganuimountainbikeclub.co.nz
SUMMARY:Sunday club ride Harakeke forest - Meet Wiritoa reserve car park for 10am departure
DESCRIPTION:Join Maree on a whirl around the tracks in Harakeke Forest to the beach cliffs this  Sunday 29 September.  Meet at Lake Wiritoa reserve carpark at 10am (remember Daylight Saving starts on Sunday so lose an hour!)  About 2.5 hrs of single track and forestry roads.
URL:https://whanganuimountainbikeclub.co.nz/event/sunday-club-ride-harakeke-forest-met-wiritoa-reserve-car-park-for-10am-departure/
LOCATION:Wiritoa Domain car park\, 316 Kaitoke rd\, Whanganui\, New Zealand
CATEGORIES:Sunday rides
ATTACH;FMTTYPE=image/png:https://whanganuimountainbikeclub.co.nz/wp-content/uploads/2020/07/logo2.png
ORGANIZER;CN="Whanganui MTB club":MAILTO:whanganuimtbc@gmail.com
END:VEVENT
END:VCALENDAR