BEGIN:VCALENDAR
VERSION:2.0
PRODID:-//Whanganui Mountain Bike Club - ECPv6.15.20//NONSGML v1.0//EN
CALSCALE:GREGORIAN
METHOD:PUBLISH
X-WR-CALNAME:Whanganui Mountain Bike Club
X-ORIGINAL-URL:https://whanganuimountainbikeclub.co.nz
X-WR-CALDESC:Events for Whanganui Mountain Bike Club
REFRESH-INTERVAL;VALUE=DURATION:PT1H
X-Robots-Tag:noindex
X-PUBLISHED-TTL:PT1H
BEGIN:VTIMEZONE
TZID:Pacific/Auckland
BEGIN:STANDARD
TZOFFSETFROM:+1300
TZOFFSETTO:+1200
TZNAME:NZST
DTSTART:20230401T140000
END:STANDARD
BEGIN:DAYLIGHT
TZOFFSETFROM:+1200
TZOFFSETTO:+1300
TZNAME:NZDT
DTSTART:20230923T140000
END:DAYLIGHT
BEGIN:STANDARD
TZOFFSETFROM:+1300
TZOFFSETTO:+1200
TZNAME:NZST
DTSTART:20240406T140000
END:STANDARD
BEGIN:DAYLIGHT
TZOFFSETFROM:+1200
TZOFFSETTO:+1300
TZNAME:NZDT
DTSTART:20240928T140000
END:DAYLIGHT
BEGIN:STANDARD
TZOFFSETFROM:+1300
TZOFFSETTO:+1200
TZNAME:NZST
DTSTART:20250405T140000
END:STANDARD
BEGIN:DAYLIGHT
TZOFFSETFROM:+1200
TZOFFSETTO:+1300
TZNAME:NZDT
DTSTART:20250927T140000
END:DAYLIGHT
END:VTIMEZONE
BEGIN:VEVENT
DTSTART;TZID=Pacific/Auckland:20240825T130000
DTEND;TZID=Pacific/Auckland:20240825T170000
DTSTAMP:20260424T023952
CREATED:20240821T074600Z
LAST-MODIFIED:20240821T082030Z
UID:1416-1724590800-1724605200@whanganuimountainbikeclub.co.nz
SUMMARY:Lismore Dig Day to prepare for the downhill season - This Sunday 25 August @1pm
DESCRIPTION:Sunday August 25th: Lismore Dig day 1pm onwards. Time to tickle up Terra firma in preparation for the next Shuttle Day. Getting rid of ruts\, reinstate the hip and a good rake should sort it. Bring tools and a bucket. Probably best to park at the bottom and walk up\, work down.
URL:https://whanganuimountainbikeclub.co.nz/event/lismore-dig-day-to-prepare-for-the-downhill-season-this-sunday-25-august-1pm/
LOCATION:Parihauhau rd turn off\, 1 Parihauhau Road\, New Zealand
CATEGORIES:Downhill Dig Day
ATTACH;FMTTYPE=image/jpeg:https://whanganuimountainbikeclub.co.nz/wp-content/uploads/2024/08/downhill.jpg
ORGANIZER;CN="Whanganui MTB club":MAILTO:whanganuimtbc@gmail.com
END:VEVENT
END:VCALENDAR