BEGIN:VCALENDAR
VERSION:2.0
PRODID:-//Whanganui Mountain Bike Club - ECPv6.15.20//NONSGML v1.0//EN
CALSCALE:GREGORIAN
METHOD:PUBLISH
X-ORIGINAL-URL:https://whanganuimountainbikeclub.co.nz
X-WR-CALDESC:Events for Whanganui Mountain Bike Club
REFRESH-INTERVAL;VALUE=DURATION:PT1H
X-Robots-Tag:noindex
X-PUBLISHED-TTL:PT1H
BEGIN:VTIMEZONE
TZID:Pacific/Auckland
BEGIN:STANDARD
TZOFFSETFROM:+1300
TZOFFSETTO:+1200
TZNAME:NZST
DTSTART:20230401T140000
END:STANDARD
BEGIN:DAYLIGHT
TZOFFSETFROM:+1200
TZOFFSETTO:+1300
TZNAME:NZDT
DTSTART:20230923T140000
END:DAYLIGHT
BEGIN:STANDARD
TZOFFSETFROM:+1300
TZOFFSETTO:+1200
TZNAME:NZST
DTSTART:20240406T140000
END:STANDARD
BEGIN:DAYLIGHT
TZOFFSETFROM:+1200
TZOFFSETTO:+1300
TZNAME:NZDT
DTSTART:20240928T140000
END:DAYLIGHT
BEGIN:STANDARD
TZOFFSETFROM:+1300
TZOFFSETTO:+1200
TZNAME:NZST
DTSTART:20250405T140000
END:STANDARD
BEGIN:DAYLIGHT
TZOFFSETFROM:+1200
TZOFFSETTO:+1300
TZNAME:NZDT
DTSTART:20250927T140000
END:DAYLIGHT
END:VTIMEZONE
BEGIN:VEVENT
DTSTART;TZID=Pacific/Auckland:20240728T100000
DTEND;TZID=Pacific/Auckland:20240728T123000
DTSTAMP:20260424T041705
CREATED:20240722T084239Z
LAST-MODIFIED:20240724T070053Z
UID:1370-1722160800-1722169800@whanganuimountainbikeclub.co.nz
SUMMARY:Sunday ride - Lismore Forest - 10am
DESCRIPTION:Sunday ride – Lismore Forest – 10am \nA morning ride sticking to the main roads in Lismore\, starting and ending on SH4\, with a short section of tarseal road back to the vehicles. \nMeet – Corner SH4 and Old Parapara Rd (past the white bridge) on Sunday 28 July at 10am.  Big hills\, moderately steep in sections.  About 22km.
URL:https://whanganuimountainbikeclub.co.nz/event/sunday-ride-lismore-forest-10am/
LOCATION:Old Parapara Rd\, Whanganui\, -39.83179785210985\, 175.1671180173915
ATTACH;FMTTYPE=image/png:https://whanganuimountainbikeclub.co.nz/wp-content/uploads/2024/07/Lismore-elevation.png
ORGANIZER;CN="Whanganui MTB club":MAILTO:whanganuimtbc@gmail.com
END:VEVENT
END:VCALENDAR