BEGIN:VCALENDAR
VERSION:2.0
PRODID:-//Whanganui Mountain Bike Club - ECPv6.15.20//NONSGML v1.0//EN
CALSCALE:GREGORIAN
METHOD:PUBLISH
X-ORIGINAL-URL:https://whanganuimountainbikeclub.co.nz
X-WR-CALDESC:Events for Whanganui Mountain Bike Club
REFRESH-INTERVAL;VALUE=DURATION:PT1H
X-Robots-Tag:noindex
X-PUBLISHED-TTL:PT1H
BEGIN:VTIMEZONE
TZID:Pacific/Auckland
BEGIN:STANDARD
TZOFFSETFROM:+1300
TZOFFSETTO:+1200
TZNAME:NZST
DTSTART:20230401T140000
END:STANDARD
BEGIN:DAYLIGHT
TZOFFSETFROM:+1200
TZOFFSETTO:+1300
TZNAME:NZDT
DTSTART:20230923T140000
END:DAYLIGHT
BEGIN:STANDARD
TZOFFSETFROM:+1300
TZOFFSETTO:+1200
TZNAME:NZST
DTSTART:20240406T140000
END:STANDARD
BEGIN:DAYLIGHT
TZOFFSETFROM:+1200
TZOFFSETTO:+1300
TZNAME:NZDT
DTSTART:20240928T140000
END:DAYLIGHT
BEGIN:STANDARD
TZOFFSETFROM:+1300
TZOFFSETTO:+1200
TZNAME:NZST
DTSTART:20250405T140000
END:STANDARD
BEGIN:DAYLIGHT
TZOFFSETFROM:+1200
TZOFFSETTO:+1300
TZNAME:NZDT
DTSTART:20250927T140000
END:DAYLIGHT
END:VTIMEZONE
BEGIN:VEVENT
DTSTART;TZID=Pacific/Auckland:20240714T110000
DTEND;TZID=Pacific/Auckland:20240714T150000
DTSTAMP:20260424T041705
CREATED:20240610T024624Z
LAST-MODIFIED:20240610T030314Z
UID:1262-1720954800-1720969200@whanganuimountainbikeclub.co.nz
SUMMARY:MMBC Winter series - Round 2 Scott's Ferry
DESCRIPTION:Scott’s Ferry – Turn left onto High St in Bulls.  Continue straight ahead onto Parawenui Rd to\, and then through\, Scott’s Ferry.  The trails and event village are 1 km past Scott’s Ferry. – https://goo.gl/maps/puH3UwK5J5Ehp5wHA
URL:https://whanganuimountainbikeclub.co.nz/event/mmbc-winter-series-2/
LOCATION:Scott’s Ferry\, Scott's Ferry\, Manawatu\, New Zealand
CATEGORIES:Winter series
ATTACH;FMTTYPE=image/webp:https://whanganuimountainbikeclub.co.nz/wp-content/uploads/2024/06/CBS-Winter-Series-web-2024_Text-2021.webp
END:VEVENT
END:VCALENDAR