BEGIN:VCALENDAR
VERSION:2.0
PRODID:-//Whanganui Mountain Bike Club - ECPv6.15.20//NONSGML v1.0//EN
CALSCALE:GREGORIAN
METHOD:PUBLISH
X-ORIGINAL-URL:https://whanganuimountainbikeclub.co.nz
X-WR-CALDESC:Events for Whanganui Mountain Bike Club
REFRESH-INTERVAL;VALUE=DURATION:PT1H
X-Robots-Tag:noindex
X-PUBLISHED-TTL:PT1H
BEGIN:VTIMEZONE
TZID:Pacific/Auckland
BEGIN:STANDARD
TZOFFSETFROM:+1300
TZOFFSETTO:+1200
TZNAME:NZST
DTSTART:20230401T140000
END:STANDARD
BEGIN:DAYLIGHT
TZOFFSETFROM:+1200
TZOFFSETTO:+1300
TZNAME:NZDT
DTSTART:20230923T140000
END:DAYLIGHT
BEGIN:STANDARD
TZOFFSETFROM:+1300
TZOFFSETTO:+1200
TZNAME:NZST
DTSTART:20240406T140000
END:STANDARD
BEGIN:DAYLIGHT
TZOFFSETFROM:+1200
TZOFFSETTO:+1300
TZNAME:NZDT
DTSTART:20240928T140000
END:DAYLIGHT
BEGIN:STANDARD
TZOFFSETFROM:+1300
TZOFFSETTO:+1200
TZNAME:NZST
DTSTART:20250405T140000
END:STANDARD
BEGIN:DAYLIGHT
TZOFFSETFROM:+1200
TZOFFSETTO:+1300
TZNAME:NZDT
DTSTART:20250927T140000
END:DAYLIGHT
END:VTIMEZONE
BEGIN:VEVENT
DTSTART;TZID=Pacific/Auckland:20240707T093000
DTEND;TZID=Pacific/Auckland:20240707T120000
DTSTAMP:20260424T041706
CREATED:20240702T082218Z
LAST-MODIFIED:20240702T212056Z
UID:1353-1720344600-1720353600@whanganuimountainbikeclub.co.nz
SUMMARY:Sunday Club Ride Harakeke forest meet 9:30 am at Wiritoa car park (Araheke MTB Park)
DESCRIPTION:The tracks in Harakeke Forest are riding well after all the recent rain.  A mix of forest roads and single tracks.   Join Grant in exploring this fun area. \nMeet at Lake Wiritoa Reserve this Sunday 7 July at 9.30am.  2 –  2.5hrs.
URL:https://whanganuimountainbikeclub.co.nz/event/sunday-club-ride-harakeke-forest-meet-930-am-at-wiritoa-car-park-araheke-mtb-park/
LOCATION:Araheke MTB Park\, Whanganui\, Araheke MTB Park\, Whanganui\, New Zealand
CATEGORIES:Sunday rides
ORGANIZER;CN="Whanganui MTB club":MAILTO:whanganuimtbc@gmail.com
END:VEVENT
END:VCALENDAR